{
 "currentVersion": 11.2,
 "serviceDescription": "This metadata supports the intensity raster product derived from the 2008 LiDAR data set. The average intensity value (range 0-255) within each raster cell is calculated and assigned as the pixel value. The resultant rasters are 1-byte, single-band with a pixel size of 1 meter (3.28 ft). Each raster was clipped to the LiDAR production tile index with a 1-pixel over-edge. LIDAR data is remotely sensed high-resolution elevation data collected by an airborne collection platform. Using a combination of laser range finding, GPS positioning and inertial measurement technologies; LIDAR instruments are able to make highly detailed Digital Elevation Models (DEM) of the earth's terrain, man-made structures and vegetation. This data was collected at a resolution to aid in flood plain analysis and mapping.",
 "name": "ImageServices/EnterpriseIntensity2008ImageService",
 "description": "",
 "extent": {
  "xmin": 1.329999656E7,
  "ymin": 334996.23999919073,
  "xmax": 1.3475004239964219E7,
  "ymax": 515005.9200007241,
  "spatialReference": {
   "wkid": 2253,
   "latestWkid": 2253
  }
 },
 "initialExtent": {
  "xmin": 1.329999656E7,
  "ymin": 334996.23999919073,
  "xmax": 1.3475004239964219E7,
  "ymax": 515005.9200007241,
  "spatialReference": {
   "wkid": 2253,
   "latestWkid": 2253
  }
 },
 "fullExtent": {
  "xmin": 1.329999656E7,
  "ymin": 334996.23999919073,
  "xmax": 1.3475004239964219E7,
  "ymax": 515005.9200007241,
  "spatialReference": {
   "wkid": 2253,
   "latestWkid": 2253
  }
 },
 "sortableFields": "",
 "bandCount": 1,
 "pixelType": "U8",
 "minValues": [
  0
 ],
 "maxValues": [
  255
 ],
 "meanValues": [
  61.88040345463
 ],
 "stdvValues": [
  63.687212090497
 ],
 "hasMultidimensions": false,
 "pixelSizeX": 3.279999999329378,
 "pixelSizeY": 3.2800000000279397,
 "meanPixelSize": 0.9997439999020553,
 "datasetFormat": "TIFF",
 "uncompressedSize": 2928230636,
 "blockWidth": 128,
 "blockHeight": 128,
 "compressionType": "LZW",
 "bandNames": [
  "Band_1"
 ],
 "allowCopy": true,
 "allowAnalysis": true,
 "itemAccess": false,
 "inspectionCapabilities": "",
 "noDataValue": 256,
 "noDataValues": [
  256
 ],
 "minPixelSize": 0,
 "maxPixelSize": 0,
 "copyrightText": "",
 "serviceDataType": "esriImageServiceDataTypeGeneric",
 "serviceSourceType": "esriImageServiceSourceTypeDataset",
 "objectIdField": "",
 "fields": [],
 "capabilities": "Image,Metadata,Mensuration",
 "defaultMosaicMethod": "Center",
 "allowedMosaicMethods": "",
 "sortField": "",
 "sortValue": null,
 "sortAscending": true,
 "mosaicOperator": "First",
 "defaultCompressionQuality": 75,
 "defaultResamplingMethod": "Bilinear",
 "maxImageHeight": 4100,
 "maxImageWidth": 15000,
 "allowRasterFunction": true,
 "rasterFunctionInfos": [
  {
   "name": "None",
   "description": "",
   "help": ""
  }
 ],
 "rasterTypeInfos": [
  {
   "name": "Raster Dataset",
   "description": "Supports all ArcGIS Raster Datasets",
   "help": ""
  }
 ],
 "mensurationCapabilities": "Basic",
 "hasHistograms": true,
 "hasColormap": false,
 "hasRasterAttributeTable": false,
 "minScale": 0,
 "maxScale": 0,
 "exportTilesAllowed": false,
 "supportsStatistics": false,
 "supportsAdvancedQueries": false,
 "editFieldsInfo": null,
 "ownershipBasedAccessControlForRasters": null,
 "allowComputeTiePoints": false,
 "useStandardizedQueries": true,
 "advancedQueryCapabilities": {
  "useStandardizedQueries": true,
  "supportsStatistics": false,
  "supportsOrderBy": false,
  "supportsDistinct": false,
  "supportsPagination": false
 },
 "spatialReference": {
  "wkid": 2253,
  "latestWkid": 2253
 }
}
