{
 "currentVersion": 11.2,
 "serviceDescription": "This dataset is a composite of the 5-class Green Infrastructure Land Cover, Building Footprints, and the 2-class Full Canopy datasets. The model to compile them accounts for features below the canopy by overlaying the GI classification with the Full Canopy. This dataset will enable the user to know where buildings, pavement, or open space exist beneath canopy. It is designed to be ingested into American Forests' CITYgreen software.A Green Infrastructure map for the 7-county SEMCOG region in southeastern Michigan was developed to support land cover and land use modeling. 4-band ADS-80 digital aerial imagery at 1-meter resolution was classified to a Green Infrastructure Level 1 classification scheme with the following classes: 1) Impervious Surface, 2) Open Space, 3) Trees, 4) Urban: Bare and 5) Water. The image was classified using Classification and Regression Tree techniques (CART analysis) and raster modeling.A standard accuracy assessment was performed on the final land cover. The overall accuracy statistic is 97.45%. Adjusted from the SEMCOG composite raster file, the data was reprojected to the Oakland County projection.",
 "name": "ImageServices/EnterpriseLandCover2010ImageService",
 "description": "",
 "extent": {
  "xmin": 1.3304893861130387E7,
  "ymin": 340130.169570474,
  "xmax": 1.3469697016017303E7,
  "ymax": 508604.5844115663,
  "spatialReference": {
   "wkid": 2253,
   "latestWkid": 2253
  }
 },
 "initialExtent": {
  "xmin": 1.3304893861130387E7,
  "ymin": 340130.169570474,
  "xmax": 1.3469697016017303E7,
  "ymax": 508604.5844115663,
  "spatialReference": {
   "wkid": 2253,
   "latestWkid": 2253
  }
 },
 "fullExtent": {
  "xmin": 1.3304893861130387E7,
  "ymin": 340130.169570474,
  "xmax": 1.3469697016017303E7,
  "ymax": 508604.5844115663,
  "spatialReference": {
   "wkid": 2253,
   "latestWkid": 2253
  }
 },
 "sortableFields": "",
 "bandCount": 3,
 "pixelType": "U8",
 "minValues": [
  0,
  0,
  0
 ],
 "maxValues": [
  244,
  244,
  219
 ],
 "meanValues": [
  122.77984185717,
  159.96942746602,
  120.19191734461
 ],
 "stdvValues": [
  112.78836850107,
  75.781615062055,
  103.23246130603
 ],
 "hasMultidimensions": false,
 "pixelSizeX": 3.2808400001376867,
 "pixelSizeY": 3.2808400000212714,
 "meanPixelSize": 1.0000000320242253,
 "datasetFormat": "TIFF",
 "uncompressedSize": 7738390296,
 "blockWidth": 128,
 "blockHeight": 128,
 "compressionType": "LZW",
 "bandNames": [
  "Band_1",
  "Band_2",
  "Band_3"
 ],
 "allowCopy": true,
 "allowAnalysis": true,
 "itemAccess": false,
 "inspectionCapabilities": "",
 "noDataValue": 255,
 "noDataValues": [
  255,
  255,
  255
 ],
 "minPixelSize": 0,
 "maxPixelSize": 0,
 "copyrightText": "Southeast Michigan Council of Governments (SEMCOG) 2011",
 "serviceDataType": "esriImageServiceDataTypeRGB",
 "serviceSourceType": "esriImageServiceSourceTypeDataset",
 "objectIdField": "",
 "fields": [],
 "capabilities": "Image,Metadata,Mensuration",
 "defaultMosaicMethod": "Center",
 "allowedMosaicMethods": "",
 "sortField": "",
 "sortValue": null,
 "sortAscending": true,
 "mosaicOperator": "First",
 "defaultCompressionQuality": 75,
 "defaultResamplingMethod": "Bilinear",
 "maxImageHeight": 4100,
 "maxImageWidth": 15000,
 "allowRasterFunction": true,
 "rasterFunctionInfos": [
  {
   "name": "None",
   "description": "",
   "help": ""
  }
 ],
 "rasterTypeInfos": [
  {
   "name": "Raster Dataset",
   "description": "Supports all ArcGIS Raster Datasets",
   "help": ""
  }
 ],
 "mensurationCapabilities": "Basic",
 "hasHistograms": true,
 "hasColormap": false,
 "hasRasterAttributeTable": false,
 "minScale": 0,
 "maxScale": 0,
 "exportTilesAllowed": false,
 "supportsStatistics": false,
 "supportsAdvancedQueries": false,
 "editFieldsInfo": null,
 "ownershipBasedAccessControlForRasters": null,
 "allowComputeTiePoints": false,
 "useStandardizedQueries": true,
 "advancedQueryCapabilities": {
  "useStandardizedQueries": true,
  "supportsStatistics": false,
  "supportsOrderBy": false,
  "supportsDistinct": false,
  "supportsPagination": false
 },
 "spatialReference": {
  "wkid": 2253,
  "latestWkid": 2253
 }
}
