<?xml version="1.0" encoding="UTF-8" standalone="no"?>
<metadata xml:lang="en">
<Esri>
<CreaDate>20210104</CreaDate>
<CreaTime>16472400</CreaTime>
<ArcGISFormat>1.0</ArcGISFormat>
<SyncOnce>FALSE</SyncOnce>
<DataProperties>
<lineage>
<Process Date="20210104" Time="164724" ToolSource="c:\program files (x86)\arcgis\desktop10.7\ArcToolbox\Toolboxes\Data Management Tools.tbx\CreateMosaicDataset">CreateMosaicDataset \\gisfs1q\Orthos\Orthos_2002BW\Ortho2002BW.gdb Mosaic2002BW "PROJCS['NAD_1983_StatePlane_Michigan_South_FIPS_2113_Feet_Intl',GEOGCS['GCS_North_American_1983',DATUM['D_North_American_1983',SPHEROID['GRS_1980',6378137.0,298.257222101]],PRIMEM['Greenwich',0.0],UNIT['Degree',0.0174532925199433]],PROJECTION['Lambert_Conformal_Conic'],PARAMETER['False_Easting',13123359.58005249],PARAMETER['False_Northing',0.0],PARAMETER['Central_Meridian',-84.36666666666666],PARAMETER['Standard_Parallel_1',42.1],PARAMETER['Standard_Parallel_2',43.66666666666666],PARAMETER['Latitude_Of_Origin',41.5],UNIT['Foot',0.3048]];-107138600 -97193800 3048;-100000 10000;-100000 10000;3.28083989501312E-03;0.001;0.001;IsHighPrecision" # # NONE #</Process>
<Process Date="20210104" Time="164834" ToolSource="c:\program files (x86)\arcgis\desktop10.7\ArcToolbox\Toolboxes\Data Management Tools.tbx\DefineOverviews">DefineOverviews \\gisfs1q\Orthos\Orthos_2002BW\Ortho2002BW.gdb\Mosaic2002BW \\gisfs1q\Orthos\Orthos_2002BW\Ortho2002BW.Overviews\Mosaic2002BW.Overviews # "13327499.75 350000.25 13467499.75 460000.25" # # 5120 5120 3 NO_FORCE_OVERVIEW_TILES BILINEAR JPEG 80</Process>
<Process Date="20210104" Time="165157" ToolSource="c:\program files (x86)\arcgis\desktop10.7\ArcToolbox\Toolboxes\Data Management Tools.tbx\BuildOverviews">BuildOverviews \\gisfs1q\Orthos\Orthos_2002BW\Ortho2002BW.gdb\Mosaic2002BW # DEFINE_MISSING_TILES GENERATE_OVERVIEWS GENERATE_MISSING_IMAGES REGENERATE_STALE_IMAGES</Process>
<Process Date="20210105" Time="085648" ToolSource="c:\program files (x86)\arcgis\desktop10.7\ArcToolbox\Toolboxes\Data Management Tools.tbx\BuildOverviews">BuildOverviews \\gisfs1q\Orthos\Orthos_2002BW\Ortho2002BW.gdb\Mosaic2002BW # DEFINE_MISSING_TILES GENERATE_OVERVIEWS GENERATE_MISSING_IMAGES REGENERATE_STALE_IMAGES</Process>
</lineage>
<itemProps>
<itemName Sync="TRUE">Mosaic2002BW</itemName>
<itemLocation>
<linkage Sync="TRUE">file://\\gisfs1p\Orthos\Orthos_2002BW\Ortho2002BW.gdb</linkage>
<protocol Sync="TRUE">Local Area Network</protocol>
</itemLocation>
<nativeExtBox>
<westBL Sync="TRUE">13302499.750000</westBL>
<eastBL Sync="TRUE">13472499.750000</eastBL>
<southBL Sync="TRUE">337500.250000</southBL>
<northBL Sync="TRUE">510000.250000</northBL>
<exTypeCode Sync="TRUE">1</exTypeCode>
</nativeExtBox>
</itemProps>
<coordRef>
<type Sync="TRUE">Projected</type>
<geogcsn Sync="TRUE">GCS_North_American_1983</geogcsn>
<csUnits Sync="TRUE">Linear Unit: Foot (0.304800)</csUnits>
<projcsn Sync="TRUE">NAD_1983_StatePlane_Michigan_South_FIPS_2113_Feet_Intl</projcsn>
<peXml Sync="TRUE">&lt;ProjectedCoordinateSystem xsi:type='typens:ProjectedCoordinateSystem' xmlns:xsi='http://www.w3.org/2001/XMLSchema-instance' xmlns:xs='http://www.w3.org/2001/XMLSchema' xmlns:typens='http://www.esri.com/schemas/ArcGIS/10.7'&gt;&lt;WKT&gt;PROJCS[&amp;quot;NAD_1983_StatePlane_Michigan_South_FIPS_2113_Feet_Intl&amp;quot;,GEOGCS[&amp;quot;GCS_North_American_1983&amp;quot;,DATUM[&amp;quot;D_North_American_1983&amp;quot;,SPHEROID[&amp;quot;GRS_1980&amp;quot;,6378137.0,298.257222101]],PRIMEM[&amp;quot;Greenwich&amp;quot;,0.0],UNIT[&amp;quot;Degree&amp;quot;,0.0174532925199433]],PROJECTION[&amp;quot;Lambert_Conformal_Conic&amp;quot;],PARAMETER[&amp;quot;False_Easting&amp;quot;,13123359.58005249],PARAMETER[&amp;quot;False_Northing&amp;quot;,0.0],PARAMETER[&amp;quot;Central_Meridian&amp;quot;,-84.36666666666666],PARAMETER[&amp;quot;Standard_Parallel_1&amp;quot;,42.1],PARAMETER[&amp;quot;Standard_Parallel_2&amp;quot;,43.66666666666666],PARAMETER[&amp;quot;Latitude_Of_Origin&amp;quot;,41.5],UNIT[&amp;quot;Foot&amp;quot;,0.3048],AUTHORITY[&amp;quot;EPSG&amp;quot;,2253]]&lt;/WKT&gt;&lt;XOrigin&gt;-107138600&lt;/XOrigin&gt;&lt;YOrigin&gt;-97193800&lt;/YOrigin&gt;&lt;XYScale&gt;37448250.484633707&lt;/XYScale&gt;&lt;ZOrigin&gt;-100000&lt;/ZOrigin&gt;&lt;ZScale&gt;10000&lt;/ZScale&gt;&lt;MOrigin&gt;-100000&lt;/MOrigin&gt;&lt;MScale&gt;10000&lt;/MScale&gt;&lt;XYTolerance&gt;0.0032808398950131233&lt;/XYTolerance&gt;&lt;ZTolerance&gt;0.001&lt;/ZTolerance&gt;&lt;MTolerance&gt;0.001&lt;/MTolerance&gt;&lt;HighPrecision&gt;true&lt;/HighPrecision&gt;&lt;WKID&gt;2253&lt;/WKID&gt;&lt;LatestWKID&gt;2253&lt;/LatestWKID&gt;&lt;/ProjectedCoordinateSystem&gt;</peXml>
</coordRef>
<RasterProperties>
<General>
<PixelDepth Sync="TRUE">8</PixelDepth>
<HasColormap Sync="TRUE">FALSE</HasColormap>
<CompressionType Sync="TRUE">None</CompressionType>
<NumBands Sync="TRUE">1</NumBands>
<Format Sync="TRUE">AMD</Format>
<HasPyramids Sync="TRUE">TRUE</HasPyramids>
<SourceType Sync="TRUE">continuous</SourceType>
<PixelType Sync="TRUE">unsigned integer</PixelType>
<NoDataValue Sync="TRUE"/>
</General>
<Properties>
<MaxImageHeight Sync="TRUE">4100</MaxImageHeight>
<MaxImageWidth Sync="TRUE">15000</MaxImageWidth>
<MaxRecordCount Sync="TRUE">1000</MaxRecordCount>
<MaxDownloadImageCount Sync="TRUE">20</MaxDownloadImageCount>
<MaxDownloadSizeLimit Sync="TRUE">2048</MaxDownloadSizeLimit>
<MaxMosaicImageCount Sync="TRUE">20</MaxMosaicImageCount>
<DefaultCompressionQuality Sync="TRUE">75</DefaultCompressionQuality>
<DefaultCompressionTolerance Sync="TRUE">0.01</DefaultCompressionTolerance>
<BlendWidth Sync="TRUE">10</BlendWidth>
<ViewpointSpacingX Sync="TRUE">600</ViewpointSpacingX>
<ViewpointSpacingY Sync="TRUE">300</ViewpointSpacingY>
<AllowedItemMetadata Sync="TRUE">Basic</AllowedItemMetadata>
<DefaultResamplingMethod Sync="TRUE">1</DefaultResamplingMethod>
<AllowedMosaicMethods Sync="TRUE">NorthWest,Center,LockRaster,ByAttribute,Nadir,Viewpoint,Seamline,None</AllowedMosaicMethods>
<AllowedCompressions Sync="TRUE">None,JPEG,LZ77,LERC</AllowedCompressions>
<AllowedMensurationCapabilities Sync="TRUE">None</AllowedMensurationCapabilities>
<AvailableMensurationCapabilities Sync="TRUE">None,Basic,Base-Top Height,Top-Top Shadow Height,Base-Top Shadow Height,3D</AvailableMensurationCapabilities>
<ClipToBoundary Sync="TRUE">-1</ClipToBoundary>
<FootprintMayContainNoData Sync="TRUE">-1</FootprintMayContainNoData>
<CellSizeTolerance Sync="TRUE">0.8</CellSizeTolerance>
<MinimumPixelContribution Sync="TRUE">1</MinimumPixelContribution>
<AvailableMosaicMethods Sync="TRUE">NorthWest,Center,LockRaster,ByAttribute,Nadir,Viewpoint,Seamline,None</AvailableMosaicMethods>
<AvailableCompressionMethods Sync="TRUE">None,JPEG,LZ77,LERC</AvailableCompressionMethods>
<AvailableItemMetadataLevels Sync="TRUE">None,Basic,Full</AvailableItemMetadataLevels>
<BandDefinitionKeyword Sync="TRUE">NONE</BandDefinitionKeyword>
<_docversion_ Sync="TRUE">10</_docversion_>
<AllowedFields Sync="TRUE">Name,MinPS,MaxPS,LowPS,HighPS,Tag,GroupName,ProductName,CenterX,CenterY,ZOrder,Shape_Length,Shape_Area,Year</AllowedFields>
<MaxCellSize Sync="TRUE">36450</MaxCellSize>
<LowCellSize Sync="TRUE">0.5</LowCellSize>
<HighCellSize Sync="TRUE">729</HighCellSize>
</Properties>
<Functions Sync="TRUE">
<Function Description="Performs on-the-fly mosaic on a raster catalog." Name="Mosaic Function"/>
</Functions>
</RasterProperties>
</DataProperties>
<SyncDate>20210312</SyncDate>
<SyncTime>14591900</SyncTime>
<ModDate>20210312</ModDate>
<ModTime>14591900</ModTime>
</Esri>
<mdLang>
<languageCode value="eng"/>
<countryCode Sync="TRUE" value="USA"/>
</mdLang>
<mdChar>
<CharSetCd value="004"/>
</mdChar>
<mdHrLv>
<ScopeCd value="005"/>
</mdHrLv>
<mdContact>
<rpIndName>Anita Campbell</rpIndName>
<rpOrgName>Oakland County Application Services</rpOrgName>
<rpPosName>GIS Data Services Supervisor</rpPosName>
<rpCntInfo>
<cntPhone>
<voiceNum>248.858.2388</voiceNum>
<faxNum>248.452.9128</faxNum>
</cntPhone>
<cntAddress addressType="postal">
<delPoint>1200 N Telegraph Rd, 49W</delPoint>
<city>Pontiac</city>
<adminArea>MI</adminArea>
<postCode>48341</postCode>
<country>US</country>
<eMailAdd>campbella@oakgov.com</eMailAdd>
</cntAddress>
<cntHours>8:30 a.m. to 5:00 p.m.</cntHours>
</rpCntInfo>
<role>
<RoleCd value="007"/>
</role>
</mdContact>
<mdStanName>ArcGIS Metadata</mdStanName>
<mdStanVer>1.0</mdStanVer>
<distInfo>
<distributor>
<distorCont>
<rpIndName>Erick Phillips</rpIndName>
<rpOrgName>Oakland County One Stop Shop</rpOrgName>
<rpPosName>Supervisor</rpPosName>
<rpCntInfo>
<cntPhone>
<voiceNum>248.858.4070</voiceNum>
<faxNum>248.858.1080</faxNum>
</cntPhone>
<cntAddress addressType="both">
<delPoint>2100 Pontiac Lake Rd. Bldg. 41W</delPoint>
<city>Waterford</city>
<adminArea>MI</adminArea>
<postCode>48328-0412</postCode>
<country>US</country>
<eMailAdd>phillipse@oakgov.com</eMailAdd>
</cntAddress>
<cntHours>9:00 a.m. to 4:00 p.m.</cntHours>
</rpCntInfo>
<role>
<RoleCd value="005"/>
</role>
</distorCont>
<distorOrdPrc>
<resFees>Varies by data type and agent.</resFees>
<ordInstr>Contact Erick Phillips of the One Stop Shop by phone.</ordInstr>
<ordTurn>24 hrs.</ordTurn>
</distorOrdPrc>
<distorFormat>
<formatName>Shapefiles, .tiff and MrSID</formatName>
</distorFormat>
<distorTran>
<offLineMed>
<medName>
<MedNameCd value="001"/>
</medName>
</offLineMed>
</distorTran>
</distributor>
<distTranOps>
<onLineSrc>
<linkage>unavailable</linkage>
</onLineSrc>
</distTranOps>
</distInfo>
<dataIdInfo>
<idCitation>
<citRespParty>
<rpOrgName>Oakland County GIS Utility</rpOrgName>
<role>
<RoleCd value="010"/>
</role>
</citRespParty>
<citRespParty>
<rpOrgName>Oakland County GIS Utility</rpOrgName>
<role>
<RoleCd value="006"/>
</role>
</citRespParty>
<resTitle Sync="TRUE">EnterpriseOrthoBW2002ImageService</resTitle>
<presForm>
<PresFormCd Sync="TRUE" value="005"/>
</presForm>
</idCitation>
<idAbs>Digital orthoimagery is a product of a fully digital process in contrast with traditional orthophotography. Digital aerial imagery is collected on magnetic tape then extracted when the mosaic is created. Oakland County's 2002 orthoimagery was collected during "leaf off" conditions at 10,000 ft. above ground level (AGL). The digital black and white imagery was rectified, and mosaiced to provide a seamless countywide image. The automated production process results in some image quality issues such as inconsistent tone balance, visible seam and mosaic lines. However these issues have no impact on the positional accuracy of the imagery.</idAbs>
<idPurp>Digital orthoimagery is a product of a fully digital process in contrast with traditional orthophotography. Digital aerial imagery is collected on magnetic tape then extracted when the mosaic is created. Oakland County's 2002 orthoimagery was collected during "leaf off" conditions at 10,000 ft. above ground level (AGL). The digital black and white imagery was rectified, and mosaiced to provide a seamless countywide image. The automated production process results in some image quality issues such as inconsistent tone balance, visible seam and mosaic lines. However these issues have no impact on the positional accuracy of the imagery.</idPurp>
<idStatus>
<ProgCd value="001"/>
</idStatus>
<idPoC>
<rpIndName>Anita Campbell</rpIndName>
<rpOrgName>Oakland County Application Services</rpOrgName>
<rpPosName>GIS Data Services Supervisor</rpPosName>
<rpCntInfo>
<cntPhone>
<voiceNum>248.858.2388</voiceNum>
<faxNum>248.452.9128</faxNum>
</cntPhone>
<cntAddress addressType="postal">
<delPoint>1200 N Telegraph Rd, Bldg 49W</delPoint>
<city>Pontiac</city>
<adminArea>MI</adminArea>
<postCode>48341</postCode>
<country>US</country>
<eMailAdd>campbella@oakgov.com</eMailAdd>
</cntAddress>
<cntHours>8:30 a.m. to 5:00 p.m.</cntHours>
</rpCntInfo>
<role>
<RoleCd value="007"/>
</role>
</idPoC>
<resMaint>
<maintFreq>
<MaintFreqCd value="011"/>
</maintFreq>
</resMaint>
<themeKeys>
<keyword>imageryBaseMapsEarthCover</keyword>
<keyword>DOP</keyword>
<keyword>digital orthophotography</keyword>
<keyword>digital orthoimagery</keyword>
<thesaName>
<resTitle>TBD</resTitle>
</thesaName>
</themeKeys>
<searchKeys>
<keyword>imageryBaseMapsEarthCover</keyword>
<keyword>DOP</keyword>
<keyword>digital orthophotography</keyword>
<keyword>digital orthoimagery</keyword>
</searchKeys>
<resConst>
<LegConsts>
<othConsts>http://www.oakgov.com/it/gis/Documents/EnhancedAccessPolicy.pdf</othConsts>
</LegConsts>
</resConst>
<resConst>
<Consts>
<useLimit>http://www.oakgov.com/it/gis/Documents/GISDataPolicies.pdf</useLimit>
</Consts>
</resConst>
<dataLang>
<languageCode value="eng"/>
<countryCode Sync="TRUE" value="USA"/>
</dataLang>
<tpCat>
<TopicCatCd value="010"/>
</tpCat>
<dataExt>
<exDesc>ground condition</exDesc>
<geoEle/>
</dataExt>
<suppInfo>Not applicable</suppInfo>
<envirDesc Sync="TRUE"> Version 6.2 (Build 9200) ; Esri ArcGIS 10.7.1.11595</envirDesc>
<spatRpType>
<SpatRepTypCd Sync="TRUE" value="002"/>
</spatRpType>
<dataExt>
<geoEle>
<GeoBndBox esriExtentType="search">
<exTypeCode Sync="TRUE">1</exTypeCode>
<westBL Sync="TRUE">-83.703155</westBL>
<eastBL Sync="TRUE">-83.063687</eastBL>
<northBL Sync="TRUE">42.897505</northBL>
<southBL Sync="TRUE">42.418752</southBL>
</GeoBndBox>
</geoEle>
</dataExt>
<idCredit/>
</dataIdInfo>
<dqInfo>
<dqScope>
<scpLvl>
<ScopeCd value="005"/>
</scpLvl>
</dqScope>
<dataLineage>
<prcStep>
<stepDesc>On-board GPS and INS data supports precise image placement</stepDesc>
</prcStep>
<prcStep>
<stepDesc>The surveyed targets support final geo-reference of the images to the surveyed control points.</stepDesc>
</prcStep>
<prcStep>
<stepDesc>Digital aerial imagery is collected on magnetic tape then extracted when the mosaic is created.</stepDesc>
</prcStep>
<prcStep>
<stepDesc>Aerial survey targets were placed and surveyed for countywide coverage.</stepDesc>
</prcStep>
</dataLineage>
</dqInfo>
<eainfo>
<detailed Name="gisvec1.OC.BW_2002_ORTHOS">
<enttyp>
<enttypl>gisvec1.OC.BW_2002_ORTHOS</enttypl>
<enttypt>Table</enttypt>
<enttypc>4455</enttypc>
</enttyp>
<attr>
<attrlabl>YMAX</attrlabl>
</attr>
<attr>
<attrlabl>YMIN</attrlabl>
</attr>
<attr>
<attrlabl>XMAX</attrlabl>
</attr>
<attr>
<attrlabl>XMIN</attrlabl>
</attr>
<attr>
<attrlabl>OBJECTID</attrlabl>
<attrdef>Internal feature number.</attrdef>
<attrdefs>ESRI</attrdefs>
<attrdomv>
<udom>Sequential unique whole numbers that are automatically generated.</udom>
</attrdomv>
</attr>
<attr>
<attrlabl>IMAGE</attrlabl>
</attr>
</detailed>
</eainfo>
<refSysInfo>
<RefSystem>
<refSysID>
<identCode Sync="TRUE" code="2253"/>
<idCodeSpace Sync="TRUE">EPSG</idCodeSpace>
<idVersion Sync="TRUE">5.3(9.0.0)</idVersion>
</refSysID>
</RefSystem>
</refSysInfo>
<spatRepInfo>
<Georect>
<cellGeo>
<CellGeoCd Sync="TRUE" value="002"/>
</cellGeo>
<numDims Sync="TRUE">2</numDims>
<tranParaAv Sync="TRUE">1</tranParaAv>
<chkPtAv Sync="TRUE">0</chkPtAv>
<cornerPts>
<pos Sync="TRUE">13302499.750000 337500.250000</pos>
</cornerPts>
<cornerPts>
<pos Sync="TRUE">13302499.750000 510000.250000</pos>
</cornerPts>
<cornerPts>
<pos Sync="TRUE">13472499.750000 510000.250000</pos>
</cornerPts>
<cornerPts>
<pos Sync="TRUE">13472499.750000 337500.250000</pos>
</cornerPts>
<centerPt>
<pos Sync="TRUE">13387499.750000 423750.250000</pos>
</centerPt>
<axisDimension type="002">
<dimSize Sync="TRUE">340000</dimSize>
<dimResol>
<value Sync="TRUE" uom="ft">0.500000</value>
</dimResol>
</axisDimension>
<axisDimension type="001">
<dimSize Sync="TRUE">345000</dimSize>
<dimResol>
<value Sync="TRUE" uom="ft">0.500000</value>
</dimResol>
</axisDimension>
<ptInPixel>
<PixOrientCd Sync="TRUE" value="001"/>
</ptInPixel>
</Georect>
</spatRepInfo>
<contInfo>
<ImgDesc>
<contentTyp>
<ContentTypCd Sync="TRUE" value="001"/>
</contentTyp>
<covDim>
<Band>
<dimDescrp Sync="TRUE">Band_1</dimDescrp>
<maxVal Sync="TRUE">255.000000</maxVal>
<minVal Sync="TRUE">0.000000</minVal>
<bitsPerVal Sync="TRUE">8</bitsPerVal>
<valUnit>
<UOM type="length"/>
</valUnit>
</Band>
</covDim>
</ImgDesc>
</contInfo>
<mdDateSt Sync="TRUE">20210312</mdDateSt>
</metadata>
