<?xml version="1.0" encoding="UTF-8" standalone="no"?>
<metadata xml:lang="en">
<Esri>
<CreaDate>20201230</CreaDate>
<CreaTime>10164000</CreaTime>
<ArcGISFormat>1.0</ArcGISFormat>
<SyncOnce>FALSE</SyncOnce>
<DataProperties>
<lineage>
<Process Date="20201230" Time="101640" ToolSource="c:\program files (x86)\arcgis\desktop10.7\ArcToolbox\Toolboxes\Data Management Tools.tbx\CreateMosaicDataset">CreateMosaicDataset \\gisfs1q\Orthos\Orthos_2000CIR\Orthos_2000CIR.gdb Mosaic2000CIR "PROJCS['NAD_1983_StatePlane_Michigan_South_FIPS_2113_Feet_Intl',GEOGCS['GCS_North_American_1983',DATUM['D_North_American_1983',SPHEROID['GRS_1980',6378137.0,298.257222101]],PRIMEM['Greenwich',0.0],UNIT['Degree',0.0174532925199433]],PROJECTION['Lambert_Conformal_Conic'],PARAMETER['False_Easting',13123359.58005249],PARAMETER['False_Northing',0.0],PARAMETER['Central_Meridian',-84.36666666666666],PARAMETER['Standard_Parallel_1',42.1],PARAMETER['Standard_Parallel_2',43.66666666666666],PARAMETER['Latitude_Of_Origin',41.5],UNIT['Foot',0.3048]];-107138600 -97193800 3048;-100000 10000;-100000 10000;3.28083989501312E-03;0.001;0.001;IsHighPrecision" # # NONE #</Process>
<Process Date="20201230" Time="102511" ToolSource="c:\program files (x86)\arcgis\desktop10.7\ArcToolbox\Toolboxes\Data Management Tools.tbx\DefineOverviews">DefineOverviews \\gisfs1q\Orthos\Orthos_2000CIR\Orthos_2000CIR.gdb\Mosaic2000CIR \\gisfs1q\Orthos\Orthos_2000CIR\Orthos_2000CIR.Overviews\Mosaic2000CIR.Overviews # "13302000 331229.430774271 13473000 512999.999999993" # # 5120 5120 3 NO_FORCE_OVERVIEW_TILES BILINEAR JPEG 80</Process>
<Process Date="20201230" Time="105834" ToolSource="c:\program files (x86)\arcgis\desktop10.7\ArcToolbox\Toolboxes\Data Management Tools.tbx\BuildOverviews">BuildOverviews \\gisfs1q\Orthos\Orthos_2000CIR\Orthos_2000CIR.gdb\Mosaic2000CIR # DEFINE_MISSING_TILES GENERATE_OVERVIEWS GENERATE_MISSING_IMAGES REGENERATE_STALE_IMAGES</Process>
</lineage>
<itemProps>
<itemName Sync="TRUE">Mosaic2000CIR</itemName>
<itemLocation>
<linkage Sync="TRUE">file://\\gisfs1p\Orthos\Orthos_2000CIR\Orthos_2000CIR.gdb</linkage>
<protocol Sync="TRUE">Local Area Network</protocol>
</itemLocation>
<nativeExtBox>
<westBL Sync="TRUE">13301999.285529</westBL>
<eastBL Sync="TRUE">13473000.783166</eastBL>
<southBL Sync="TRUE">331228.666911</southBL>
<northBL Sync="TRUE">513000.164400</northBL>
<exTypeCode Sync="TRUE">1</exTypeCode>
</nativeExtBox>
</itemProps>
<coordRef>
<type Sync="TRUE">Projected</type>
<geogcsn Sync="TRUE">GCS_North_American_1983</geogcsn>
<csUnits Sync="TRUE">Linear Unit: Foot (0.304800)</csUnits>
<projcsn Sync="TRUE">NAD_1983_StatePlane_Michigan_South_FIPS_2113_Feet_Intl</projcsn>
<peXml Sync="TRUE">&lt;ProjectedCoordinateSystem xsi:type='typens:ProjectedCoordinateSystem' xmlns:xsi='http://www.w3.org/2001/XMLSchema-instance' xmlns:xs='http://www.w3.org/2001/XMLSchema' xmlns:typens='http://www.esri.com/schemas/ArcGIS/10.7'&gt;&lt;WKT&gt;PROJCS[&amp;quot;NAD_1983_StatePlane_Michigan_South_FIPS_2113_Feet_Intl&amp;quot;,GEOGCS[&amp;quot;GCS_North_American_1983&amp;quot;,DATUM[&amp;quot;D_North_American_1983&amp;quot;,SPHEROID[&amp;quot;GRS_1980&amp;quot;,6378137.0,298.257222101]],PRIMEM[&amp;quot;Greenwich&amp;quot;,0.0],UNIT[&amp;quot;Degree&amp;quot;,0.0174532925199433]],PROJECTION[&amp;quot;Lambert_Conformal_Conic&amp;quot;],PARAMETER[&amp;quot;False_Easting&amp;quot;,13123359.58005249],PARAMETER[&amp;quot;False_Northing&amp;quot;,0.0],PARAMETER[&amp;quot;Central_Meridian&amp;quot;,-84.36666666666666],PARAMETER[&amp;quot;Standard_Parallel_1&amp;quot;,42.1],PARAMETER[&amp;quot;Standard_Parallel_2&amp;quot;,43.66666666666666],PARAMETER[&amp;quot;Latitude_Of_Origin&amp;quot;,41.5],UNIT[&amp;quot;Foot&amp;quot;,0.3048],AUTHORITY[&amp;quot;EPSG&amp;quot;,2253]]&lt;/WKT&gt;&lt;XOrigin&gt;-107138600&lt;/XOrigin&gt;&lt;YOrigin&gt;-97193800&lt;/YOrigin&gt;&lt;XYScale&gt;37448250.484633707&lt;/XYScale&gt;&lt;ZOrigin&gt;-100000&lt;/ZOrigin&gt;&lt;ZScale&gt;10000&lt;/ZScale&gt;&lt;MOrigin&gt;-100000&lt;/MOrigin&gt;&lt;MScale&gt;10000&lt;/MScale&gt;&lt;XYTolerance&gt;0.0032808398950131233&lt;/XYTolerance&gt;&lt;ZTolerance&gt;0.001&lt;/ZTolerance&gt;&lt;MTolerance&gt;0.001&lt;/MTolerance&gt;&lt;HighPrecision&gt;true&lt;/HighPrecision&gt;&lt;WKID&gt;2253&lt;/WKID&gt;&lt;LatestWKID&gt;2253&lt;/LatestWKID&gt;&lt;/ProjectedCoordinateSystem&gt;</peXml>
</coordRef>
<RasterProperties>
<General>
<PixelDepth Sync="TRUE">8</PixelDepth>
<HasColormap Sync="TRUE">FALSE</HasColormap>
<CompressionType Sync="TRUE">None</CompressionType>
<NumBands Sync="TRUE">3</NumBands>
<Format Sync="TRUE">AMD</Format>
<HasPyramids Sync="TRUE">TRUE</HasPyramids>
<SourceType Sync="TRUE">continuous</SourceType>
<PixelType Sync="TRUE">unsigned integer</PixelType>
<NoDataValue Sync="TRUE"/>
</General>
<Properties>
<MaxImageHeight Sync="TRUE">4100</MaxImageHeight>
<MaxImageWidth Sync="TRUE">15000</MaxImageWidth>
<MaxRecordCount Sync="TRUE">1000</MaxRecordCount>
<MaxDownloadImageCount Sync="TRUE">20</MaxDownloadImageCount>
<MaxDownloadSizeLimit Sync="TRUE">2048</MaxDownloadSizeLimit>
<MaxMosaicImageCount Sync="TRUE">20</MaxMosaicImageCount>
<DefaultCompressionQuality Sync="TRUE">75</DefaultCompressionQuality>
<DefaultCompressionTolerance Sync="TRUE">0.01</DefaultCompressionTolerance>
<BlendWidth Sync="TRUE">10</BlendWidth>
<ViewpointSpacingX Sync="TRUE">600</ViewpointSpacingX>
<ViewpointSpacingY Sync="TRUE">300</ViewpointSpacingY>
<AllowedItemMetadata Sync="TRUE">Basic</AllowedItemMetadata>
<DefaultResamplingMethod Sync="TRUE">1</DefaultResamplingMethod>
<AllowedMosaicMethods Sync="TRUE">NorthWest,Center,LockRaster,ByAttribute,Nadir,Viewpoint,Seamline,None</AllowedMosaicMethods>
<AllowedCompressions Sync="TRUE">None,JPEG,LZ77,LERC</AllowedCompressions>
<AllowedMensurationCapabilities Sync="TRUE">None</AllowedMensurationCapabilities>
<AvailableMensurationCapabilities Sync="TRUE">None,Basic,Base-Top Height,Top-Top Shadow Height,Base-Top Shadow Height,3D</AvailableMensurationCapabilities>
<ClipToBoundary Sync="TRUE">-1</ClipToBoundary>
<FootprintMayContainNoData Sync="TRUE">-1</FootprintMayContainNoData>
<CellSizeTolerance Sync="TRUE">0.8</CellSizeTolerance>
<MinimumPixelContribution Sync="TRUE">1</MinimumPixelContribution>
<AvailableMosaicMethods Sync="TRUE">NorthWest,Center,LockRaster,ByAttribute,Nadir,Viewpoint,Seamline,None</AvailableMosaicMethods>
<AvailableCompressionMethods Sync="TRUE">None,JPEG,LZ77,LERC</AvailableCompressionMethods>
<AvailableItemMetadataLevels Sync="TRUE">None,Basic,Full</AvailableItemMetadataLevels>
<BandDefinitionKeyword Sync="TRUE">NONE</BandDefinitionKeyword>
<_docversion_ Sync="TRUE">10</_docversion_>
<AllowedFields Sync="TRUE">Name,MinPS,MaxPS,LowPS,HighPS,Tag,GroupName,ProductName,CenterX,CenterY,ZOrder,Shape_Length,Shape_Area,Year</AllowedFields>
<TimeStamp.RemoveItems Sync="TRUE">44195.6394457292</TimeStamp.RemoveItems>
<MaxCellSize Sync="TRUE">48599.9993286094</MaxCellSize>
<LowCellSize Sync="TRUE">1.49999997927807</LowCellSize>
<HighCellSize Sync="TRUE">971.999986572188</HighCellSize>
<TimeStamp.UpdateExtent Sync="TRUE">44195.6400312963</TimeStamp.UpdateExtent>
</Properties>
<Functions Sync="TRUE">
<Function Description="Performs on-the-fly mosaic on a raster catalog." Name="Mosaic Function"/>
</Functions>
</RasterProperties>
</DataProperties>
<SyncDate>20210312</SyncDate>
<SyncTime>14501300</SyncTime>
<ModDate>20210312</ModDate>
<ModTime>14501300</ModTime>
</Esri>
<mdLang>
<languageCode value="eng"/>
<countryCode Sync="TRUE" value="USA"/>
</mdLang>
<mdChar>
<CharSetCd value="004"/>
</mdChar>
<mdHrLv>
<ScopeCd value="005"/>
</mdHrLv>
<mdContact>
<rpIndName>Anita Campbell</rpIndName>
<rpOrgName>Oakland County Application Services</rpOrgName>
<rpPosName>GIS Data Services Supervisor</rpPosName>
<rpCntInfo>
<cntPhone>
<voiceNum>248.858.2388</voiceNum>
<faxNum>248.452.9128</faxNum>
</cntPhone>
<cntAddress addressType="postal">
<delPoint>1200 N Telegraph Rd, 49W</delPoint>
<city>Pontiac</city>
<adminArea>MI</adminArea>
<postCode>48341</postCode>
<country>US</country>
<eMailAdd>campbella@oakgov.com</eMailAdd>
</cntAddress>
<cntHours>8:30 a.m. to 5:00 p.m.</cntHours>
</rpCntInfo>
<role>
<RoleCd value="007"/>
</role>
</mdContact>
<mdStanName>ArcGIS Metadata</mdStanName>
<mdStanVer>1.0</mdStanVer>
<distInfo>
<distributor>
<distorCont>
<rpIndName>Erick Phillips</rpIndName>
<rpOrgName>Oakland County One Stop Shop</rpOrgName>
<rpPosName>Supervisor</rpPosName>
<rpCntInfo>
<cntPhone>
<voiceNum>248.858.4070</voiceNum>
<faxNum>248.858.1080</faxNum>
</cntPhone>
<cntAddress addressType="both">
<delPoint>2100 Pontiac Lake Rd. Bldg. 41W</delPoint>
<city>Waterford</city>
<adminArea>MI</adminArea>
<postCode>48328-0412</postCode>
<country>US</country>
<eMailAdd>phillipse@oakgov.com</eMailAdd>
</cntAddress>
<cntHours>9:00 a.m. to 4:00 p.m.</cntHours>
</rpCntInfo>
<role>
<RoleCd value="005"/>
</role>
</distorCont>
<distorOrdPrc>
<resFees>Varies by data type and agent.</resFees>
<ordInstr>Contact Erick Phillips of the One Stop Shop by phone.</ordInstr>
<ordTurn>24 hrs.</ordTurn>
</distorOrdPrc>
<distorFormat>
<formatName>Shapefiles, .tiff and MrSID</formatName>
</distorFormat>
<distorTran>
<offLineMed>
<medName>
<MedNameCd value="001"/>
</medName>
</offLineMed>
</distorTran>
</distributor>
<distTranOps>
<onLineSrc>
<linkage>Unavailable</linkage>
</onLineSrc>
</distTranOps>
</distInfo>
<dataIdInfo>
<idCitation>
<citRespParty>
<rpOrgName>Oakland County GIS Utility</rpOrgName>
<role>
<RoleCd value="006"/>
</role>
</citRespParty>
<citRespParty>
<rpOrgName>Oakland County</rpOrgName>
<role>
<RoleCd value="010"/>
</role>
</citRespParty>
<presForm>
<fgdcGeoform>SDE raster digital data</fgdcGeoform>
<PresFormCd Sync="TRUE" value="005"/>
</presForm>
<resTitle Sync="TRUE">EnterpriseOrthoCIR2000ImageService</resTitle>
</idCitation>
<idAbs>A color infra-red photographic representation of Oakland County. The photography was collected at a photo scale of 1" = 2640', scanned, rectified and mosaiced to provide a seamless image. The imagery was not subjected to tone balancing so when viewed at small scales, inconsistent tone is apparent. The pixel resolution is 18 inches.</idAbs>
<idPurp>A color infra-red photographic representation of Oakland County. The photography was collected at a photo scale of 1" = 2640', scanned, rectified and mosaiced to provide a seamless image. The imagery was not subjected to tone balancing so when viewed at small scales, inconsistent tone is apparent. The pixel resolution is 18 inches.</idPurp>
<idStatus>
<ProgCd value="001"/>
</idStatus>
<idPoC>
<rpIndName>Anita Campbell</rpIndName>
<rpOrgName>Oakland County Application Services</rpOrgName>
<rpPosName>GIS Data Services Supervisor</rpPosName>
<rpCntInfo>
<cntPhone>
<voiceNum>248.858.2388</voiceNum>
<faxNum>248.452.9128</faxNum>
</cntPhone>
<cntAddress addressType="postal">
<delPoint>1200 N Telegraph Rd, Bldg 49W</delPoint>
<city>Pontiac</city>
<adminArea>MI</adminArea>
<postCode>48341</postCode>
<country>US</country>
<eMailAdd>campbella@oakgov.com</eMailAdd>
</cntAddress>
<cntHours>8:30 a.m. to 5:00 p.m.</cntHours>
</rpCntInfo>
<role>
<RoleCd value="007"/>
</role>
</idPoC>
<resMaint>
<maintFreq>
<MaintFreqCd value="011"/>
</maintFreq>
</resMaint>
<themeKeys>
<keyword>CIR</keyword>
<keyword>color infra red</keyword>
<keyword>DOP</keyword>
<keyword>digital orthophotography</keyword>
<keyword>imageryBaseMapsEarthCover</keyword>
<thesaName>
<resTitle>TBD</resTitle>
</thesaName>
</themeKeys>
<searchKeys>
<keyword>CIR</keyword>
<keyword>color infra red</keyword>
<keyword>DOP</keyword>
<keyword>digital orthophotography</keyword>
<keyword>imageryBaseMapsEarthCover</keyword>
</searchKeys>
<resConst>
<LegConsts>
<othConsts>http://www.oakgov.com/it/gis/Documents/EnhancedAccessPolicy.pdf</othConsts>
</LegConsts>
</resConst>
<resConst>
<Consts>
<useLimit>http://www.oakgov.com/it/gis/Documents/GISDataPolicies.pdf</useLimit>
</Consts>
</resConst>
<dataLang>
<languageCode value="eng"/>
<countryCode Sync="TRUE" value="USA"/>
</dataLang>
<tpCat>
<TopicCatCd value="010"/>
</tpCat>
<dataExt>
<exDesc>ground condition</exDesc>
<geoEle/>
</dataExt>
<dataExt>
<geoEle>
<GeoBndBox>
<westBL>-83.705137</westBL>
<eastBL>-83.061641</eastBL>
<southBL>42.406383</southBL>
<northBL>42.905747</northBL>
</GeoBndBox>
</geoEle>
</dataExt>
<suppInfo>Not applicable</suppInfo>
<envirDesc Sync="TRUE"> Version 6.2 (Build 9200) ; Esri ArcGIS 10.7.1.11595</envirDesc>
<spatRpType>
<SpatRepTypCd Sync="TRUE" value="002"/>
</spatRpType>
<dataExt>
<geoEle>
<GeoBndBox esriExtentType="search">
<exTypeCode Sync="TRUE">1</exTypeCode>
<westBL Sync="TRUE">-83.705192</westBL>
<eastBL Sync="TRUE">-83.061643</eastBL>
<northBL Sync="TRUE">42.905747</northBL>
<southBL Sync="TRUE">42.401523</southBL>
</GeoBndBox>
</geoEle>
</dataExt>
<idCredit/>
</dataIdInfo>
<dqInfo>
<dqScope>
<scpLvl>
<ScopeCd value="005"/>
</scpLvl>
</dqScope>
<dataLineage>
<prcStep>
<stepDesc>The rectified images were mosaiced resulting in continuous imagery.</stepDesc>
</prcStep>
<prcStep>
<stepDesc>The diapositives were scanned at 12 microns per inch resulting in an output pixel resolution of 18 inches.</stepDesc>
</prcStep>
<prcStep>
<stepDesc>The images were geo-referenced and ortho rectified.</stepDesc>
</prcStep>
<prcStep>
<stepDesc>The entire dataset was panned at a scale of 1:2400 (1" = 200') to assure that the diapositives were free of dust and scratches during the scanning process.</stepDesc>
</prcStep>
<prcStep>
<stepDesc>The aerial photography was collected at an altitude of approximately 15,840 feet.</stepDesc>
</prcStep>
<prcStep>
<stepDesc>Quality assurance of horizontal accuracy was performed by cross checking the imagery against datasets from independent sources.</stepDesc>
</prcStep>
<prcStep>
<stepDesc>The entire dataset was panned at a scale of 1:9600 (1" = 800') for the purpose of quality assurance with respect to tone balance and the general aesthetics of the imagery.</stepDesc>
</prcStep>
</dataLineage>
</dqInfo>
<spatRepInfo>
<Georect>
<numDims Sync="TRUE">2</numDims>
<axisDimension type="001">
<dimSize Sync="TRUE">121181</dimSize>
<dimResol>
<value Sync="TRUE" uom="ft">1.500000</value>
</dimResol>
</axisDimension>
<axisDimension type="002">
<dimSize Sync="TRUE">114001</dimSize>
<dimResol>
<value Sync="TRUE" uom="ft">1.500000</value>
</dimResol>
</axisDimension>
<axisDimension type="003">
<dimSize>1</dimSize>
</axisDimension>
<cellGeo>
<CellGeoCd Sync="TRUE" value="002"/>
</cellGeo>
<tranParaAv Sync="TRUE">1</tranParaAv>
<chkPtAv Sync="TRUE">0</chkPtAv>
<cornerPts>
<pos Sync="TRUE">13301999.285529 331228.666911</pos>
</cornerPts>
<cornerPts>
<pos Sync="TRUE">13301999.285529 513000.164400</pos>
</cornerPts>
<cornerPts>
<pos Sync="TRUE">13473000.783166 513000.164400</pos>
</cornerPts>
<cornerPts>
<pos Sync="TRUE">13473000.783166 331228.666911</pos>
</cornerPts>
<centerPt>
<pos Sync="TRUE">13387500.034347 422114.415655</pos>
</centerPt>
<ptInPixel>
<PixOrientCd Sync="TRUE" value="001"/>
</ptInPixel>
</Georect>
</spatRepInfo>
<refSysInfo>
<RefSystem>
<refSysID>
<identCode Sync="TRUE" code="2253"/>
<idCodeSpace Sync="TRUE">EPSG</idCodeSpace>
<idVersion Sync="TRUE">5.3(9.0.0)</idVersion>
</refSysID>
</RefSystem>
</refSysInfo>
<contInfo>
<ImgDesc>
<contentTyp>
<ContentTypCd Sync="TRUE" value="001"/>
</contentTyp>
<covDim>
<Band>
<dimDescrp Sync="TRUE">Band_1</dimDescrp>
<maxVal Sync="TRUE">255.000000</maxVal>
<minVal Sync="TRUE">0.000000</minVal>
<bitsPerVal Sync="TRUE">8</bitsPerVal>
<valUnit>
<UOM type="length"/>
</valUnit>
</Band>
<Band>
<dimDescrp Sync="TRUE">Band_2</dimDescrp>
<maxVal Sync="TRUE">255.000000</maxVal>
<minVal Sync="TRUE">0.000000</minVal>
<bitsPerVal Sync="TRUE">8</bitsPerVal>
<valUnit>
<UOM type="length"/>
</valUnit>
</Band>
<Band>
<dimDescrp Sync="TRUE">Band_3</dimDescrp>
<maxVal Sync="TRUE">255.000000</maxVal>
<minVal Sync="TRUE">0.000000</minVal>
<bitsPerVal Sync="TRUE">8</bitsPerVal>
<valUnit>
<UOM type="length"/>
</valUnit>
</Band>
</covDim>
</ImgDesc>
</contInfo>
<mdDateSt Sync="TRUE">20210312</mdDateSt>
</metadata>
