{
 "currentVersion": 11.2,
 "serviceDescription": "Oakland County is included in the Southeast Michigan Regional Orthoimagery project encompassing approximately 3613 square miles of the Detroit metropolitan area and surrounding counties. Aerial imagery was collected using an Vexcel Ultracam digital sensor. The orthoimages are composed of 4-bands (RGB and near-infrared) and are tiled to a 1500 meter x 1500 meter grid. The orthoimagery is true color with a resolution of 0.3-meter per pixel. Orthoimagery tiles were delivered in Tiff format. A total of 1170 tiles that overlap Oakland County were adjusted by USGS to mimic State Plane (2113) International Feet using a custom Python Script. The adjustment was done tile-by-tile, so some 'no data' areas exist at the edges of the tiles. All imagery was taken in the spring of 2008.",
 "name": "ImageServices/EnterpriseOrthoTC2008ImageService",
 "description": "Oakland County is included in the Southeast Michigan Regional Orthoimagery project encompassing approximately 3613 square miles of the Detroit metropolitan area and surrounding counties. Aerial imagery was collected using an Vexcel Ultracam digital sensor. The orthoimages are composed of 4-bands (RGB and near-infrared) and are tiled to a 1500 meter x 1500 meter grid. The orthoimagery is true color with a resolution of 0.3-meter per pixel. Orthoimagery tiles were delivered in Tiff format. A total of 1170 tiles that overlap Oakland County were adjusted by USGS to mimic State Plane (2113) International Feet using a custom Python Script. The adjustment was done tile-by-tile, so some 'no data' areas exist at the edges of the tiles. All imagery was taken in the spring of 2008.",
 "extent": {
  "xmin": 1.3300485866665691E7,
  "ymin": 334685.75943752134,
  "xmax": 1.3474319659181401E7,
  "ymax": 513434.75568380224,
  "spatialReference": {
   "wkid": 2253,
   "latestWkid": 2253
  }
 },
 "initialExtent": {
  "xmin": 1.3300485866665691E7,
  "ymin": 334685.75943752134,
  "xmax": 1.3474319659181401E7,
  "ymax": 513434.75568380224,
  "spatialReference": {
   "wkid": 2253,
   "latestWkid": 2253
  }
 },
 "fullExtent": {
  "xmin": 1.3300485866665691E7,
  "ymin": 334685.75943752134,
  "xmax": 1.3474319659181401E7,
  "ymax": 513434.75568380224,
  "spatialReference": {
   "wkid": 2253,
   "latestWkid": 2253
  }
 },
 "sortableFields": "MinPS,MaxPS,LowPS,HighPS,CenterX,CenterY,ZOrder,Shape_Length,Shape_Area,Year",
 "bandCount": 4,
 "pixelType": "U16",
 "minValues": [
  12026,
  13395,
  13100,
  10380
 ],
 "maxValues": [
  62285,
  62576,
  62872,
  60298
 ],
 "meanValues": [
  32743.536848820557,
  32728.06682307037,
  30122.372753575342,
  32742.286025430174
 ],
 "stdvValues": [
  4378.646838854957,
  3791.1037840509516,
  3544.2301235760156,
  3953.8692904365275
 ],
 "hasMultidimensions": false,
 "pixelSizeX": 1.0225096173434622,
 "pixelSizeY": 1.0225096173434673,
 "meanPixelSize": 0.31166093136628803,
 "datasetFormat": "AMD",
 "uncompressedSize": 237756829584,
 "blockWidth": 2048,
 "blockHeight": 256,
 "compressionType": "None",
 "bandNames": [
  "Band_1",
  "Band_2",
  "Band_3",
  "Band_4"
 ],
 "allowCopy": true,
 "allowAnalysis": true,
 "itemAccess": false,
 "inspectionCapabilities": "",
 "minPixelSize": 0,
 "maxPixelSize": 0,
 "copyrightText": "",
 "serviceDataType": "esriImageServiceDataTypeGeneric",
 "serviceSourceType": "esriImageServiceSourceTypeMosaicDataset",
 "objectIdField": "OBJECTID",
 "fields": [
  {
   "name": "OBJECTID",
   "type": "esriFieldTypeOID",
   "alias": "OBJECTID",
   "domain": null
  },
  {
   "name": "Shape",
   "type": "esriFieldTypeGeometry",
   "alias": "Shape",
   "domain": null
  },
  {
   "name": "Name",
   "type": "esriFieldTypeString",
   "alias": "Name",
   "domain": null,
   "length": 200
  },
  {
   "name": "MinPS",
   "type": "esriFieldTypeDouble",
   "alias": "MinPS",
   "domain": null
  },
  {
   "name": "MaxPS",
   "type": "esriFieldTypeDouble",
   "alias": "MaxPS",
   "domain": null
  },
  {
   "name": "LowPS",
   "type": "esriFieldTypeDouble",
   "alias": "LowPS",
   "domain": null
  },
  {
   "name": "HighPS",
   "type": "esriFieldTypeDouble",
   "alias": "HighPS",
   "domain": null
  },
  {
   "name": "Category",
   "type": "esriFieldTypeInteger",
   "alias": "Category",
   "domain": {
    "type": "codedValue",
    "name": "MosaicCatalogItemCategoryDomain",
    "description": "Catalog item categories.",
    "codedValues": [
     {
      "name": "Unknown",
      "code": 0
     },
     {
      "name": "Primary",
      "code": 1
     },
     {
      "name": "Overview",
      "code": 2
     },
     {
      "name": "Unprocessed Overview",
      "code": 3
     },
     {
      "name": "Partial Overview",
      "code": 4
     },
     {
      "name": "Inactive",
      "code": 5
     },
     {
      "name": "Uploaded",
      "code": 253
     },
     {
      "name": "Incomplete",
      "code": 254
     },
     {
      "name": "Custom",
      "code": 255
     }
    ],
    "mergePolicy": "esriMPTDefaultValue",
    "splitPolicy": "esriSPTDefaultValue"
   }
  },
  {
   "name": "Tag",
   "type": "esriFieldTypeString",
   "alias": "Tag",
   "domain": null,
   "length": 100
  },
  {
   "name": "GroupName",
   "type": "esriFieldTypeString",
   "alias": "GroupName",
   "domain": null,
   "length": 100
  },
  {
   "name": "ProductName",
   "type": "esriFieldTypeString",
   "alias": "ProductName",
   "domain": null,
   "length": 100
  },
  {
   "name": "CenterX",
   "type": "esriFieldTypeDouble",
   "alias": "CenterX",
   "domain": null
  },
  {
   "name": "CenterY",
   "type": "esriFieldTypeDouble",
   "alias": "CenterY",
   "domain": null
  },
  {
   "name": "ZOrder",
   "type": "esriFieldTypeInteger",
   "alias": "ZOrder",
   "domain": null
  },
  {
   "name": "Shape_Length",
   "type": "esriFieldTypeDouble",
   "alias": "Shape_Length",
   "domain": null
  },
  {
   "name": "Shape_Area",
   "type": "esriFieldTypeDouble",
   "alias": "Shape_Area",
   "domain": null
  },
  {
   "name": "Year",
   "type": "esriFieldTypeSmallInteger",
   "alias": "Year",
   "domain": null
  }
 ],
 "capabilities": "Image,Metadata,Catalog,Download",
 "defaultMosaicMethod": "Northwest",
 "allowedMosaicMethods": "NorthWest,Center,LockRaster,ByAttribute,Nadir,Viewpoint,Seamline,None",
 "sortField": "",
 "sortValue": null,
 "sortAscending": true,
 "mosaicOperator": "First",
 "maxDownloadSizeLimit": 2048,
 "defaultCompressionQuality": 75,
 "defaultResamplingMethod": "Bilinear",
 "maxImageHeight": 4100,
 "maxImageWidth": 15000,
 "maxRecordCount": 1000,
 "maxDownloadImageCount": 20,
 "maxMosaicImageCount": 20,
 "allowRasterFunction": true,
 "rasterFunctionInfos": [
  {
   "name": "None",
   "description": "",
   "help": ""
  }
 ],
 "rasterTypeInfos": [
  {
   "name": "Raster Dataset",
   "description": "Supports all ArcGIS Raster Datasets",
   "help": ""
  }
 ],
 "mensurationCapabilities": "None",
 "hasHistograms": true,
 "hasColormap": false,
 "hasRasterAttributeTable": false,
 "minScale": 0,
 "maxScale": 0,
 "exportTilesAllowed": false,
 "supportsStatistics": true,
 "supportsAdvancedQueries": true,
 "editFieldsInfo": null,
 "ownershipBasedAccessControlForRasters": null,
 "allowComputeTiePoints": false,
 "useStandardizedQueries": true,
 "advancedQueryCapabilities": {
  "useStandardizedQueries": true,
  "supportsStatistics": true,
  "supportsOrderBy": true,
  "supportsDistinct": true,
  "supportsPagination": true
 },
 "spatialReference": {
  "wkid": 2253,
  "latestWkid": 2253
 }
}
