{ "currentVersion": 11.2, "serviceDescription": "
This raster dataset consists of 8-bit, 4-band (R, G, B, NIR) color orthoimagery. A digital orthoimage is a raster image processed from vertical aerial images in which displacement in the image due to sensor orientation and terrain relief have been removed. Orthoimagery combines the image characteristics of an image with the geometric qualities of a map. Unlike planimetric maps which depict natural and manmade features by means of lines, point symbols, texts and polygons, orthoimagery illustrates the actual images of features and are thus more easily interpreted than regular maps. The normal orientation of data in an orthoimage is by lines (rows) and samples (columns). Each line contains a series of pixels ordered from west to east with the order of the lines from north to south. Each image tile is stored in industry standard TIFF (tagged interchange file format) with an associated TIFF world file. Aerial imagery was acquired on May 6, 2014, May 19, 2014 from flying heights of approximately 14500 feet above ground level (AGL). Each orthoimage tile is 5000 feet X 5000 feet in dimension, edge-tied with the adjacent tiles (no gap and no overlap). This dataset is published in NAD_1983_StatePlane_Michigan_South_FIPS_2111_Feet_Intl_feet.<\/SPAN><\/P><\/DIV><\/DIV><\/DIV>",
"name": "ImageServices/EnterpriseOrthoTC2014ImageService",
"description": " This raster dataset consists of 8-bit, 4-band (R, G, B, NIR) color orthoimagery. A digital orthoimage is a raster image processed from vertical aerial images in which displacement in the image due to sensor orientation and terrain relief have been removed. Orthoimagery combines the image characteristics of an image with the geometric qualities of a map. Unlike planimetric maps which depict natural and manmade features by means of lines, point symbols, texts and polygons, orthoimagery illustrates the actual images of features and are thus more easily interpreted than regular maps. The normal orientation of data in an orthoimage is by lines (rows) and samples (columns). Each line contains a series of pixels ordered from west to east with the order of the lines from north to south. Each image tile is stored in industry standard TIFF (tagged interchange file format) with an associated TIFF world file. Aerial imagery was acquired on May 6, 2014, May 19, 2014 from flying heights of approximately 14500 feet above ground level (AGL). Each orthoimage tile is 5000 feet X 5000 feet in dimension, edge-tied with the adjacent tiles (no gap and no overlap). This dataset is published in NAD_1983_StatePlane_Michigan_South_FIPS_2111_Feet_Intl_feet.<\/SPAN><\/P><\/DIV><\/DIV><\/DIV>",
"extent": {
"xmin": 13302000,
"ymin": 336500,
"xmax": 13472000,
"ymax": 511500,
"spatialReference": {
"wkid": 2253,
"latestWkid": 2253
}
},
"initialExtent": {
"xmin": 13302000,
"ymin": 336500,
"xmax": 13472000,
"ymax": 511500,
"spatialReference": {
"wkid": 2253,
"latestWkid": 2253
}
},
"fullExtent": {
"xmin": 13302000,
"ymin": 336500,
"xmax": 13472000,
"ymax": 511500,
"spatialReference": {
"wkid": 2253,
"latestWkid": 2253
}
},
"sortableFields": "MinPS,MaxPS,LowPS,HighPS,CenterX,CenterY,ZOrder,Shape_Length,Shape_Area,Year",
"bandCount": 4,
"pixelType": "U8",
"minValues": [
1,
1,
1,
1
],
"maxValues": [
255,
255,
255,
255
],
"meanValues": [
110.42367799722564,
105.2890659618052,
86.38799874782771,
151.27314813794212
],
"stdvValues": [
41.42046241827425,
36.88171728845846,
34.88618283744072,
44.46006399156286
],
"hasMultidimensions": false,
"pixelSizeX": 0.5,
"pixelSizeY": 0.5,
"meanPixelSize": 0.1524,
"datasetFormat": "AMD",
"uncompressedSize": 476000000000,
"blockWidth": 2048,
"blockHeight": 256,
"compressionType": "None",
"bandNames": [
"Band_1",
"Band_2",
"Band_3",
"Band_4"
],
"allowCopy": true,
"allowAnalysis": true,
"itemAccess": false,
"inspectionCapabilities": "",
"minPixelSize": 0,
"maxPixelSize": 0,
"copyrightText": "",
"serviceDataType": "esriImageServiceDataTypeGeneric",
"serviceSourceType": "esriImageServiceSourceTypeMosaicDataset",
"objectIdField": "OBJECTID",
"fields": [
{
"name": "OBJECTID",
"type": "esriFieldTypeOID",
"alias": "OBJECTID",
"domain": null
},
{
"name": "Shape",
"type": "esriFieldTypeGeometry",
"alias": "Shape",
"domain": null
},
{
"name": "Name",
"type": "esriFieldTypeString",
"alias": "Name",
"domain": null,
"length": 200
},
{
"name": "MinPS",
"type": "esriFieldTypeDouble",
"alias": "MinPS",
"domain": null
},
{
"name": "MaxPS",
"type": "esriFieldTypeDouble",
"alias": "MaxPS",
"domain": null
},
{
"name": "LowPS",
"type": "esriFieldTypeDouble",
"alias": "LowPS",
"domain": null
},
{
"name": "HighPS",
"type": "esriFieldTypeDouble",
"alias": "HighPS",
"domain": null
},
{
"name": "Category",
"type": "esriFieldTypeInteger",
"alias": "Category",
"domain": {
"type": "codedValue",
"name": "MosaicCatalogItemCategoryDomain",
"description": "Catalog item categories.",
"codedValues": [
{
"name": "Unknown",
"code": 0
},
{
"name": "Primary",
"code": 1
},
{
"name": "Overview",
"code": 2
},
{
"name": "Unprocessed Overview",
"code": 3
},
{
"name": "Partial Overview",
"code": 4
},
{
"name": "Inactive",
"code": 5
},
{
"name": "Uploaded",
"code": 253
},
{
"name": "Incomplete",
"code": 254
},
{
"name": "Custom",
"code": 255
}
],
"mergePolicy": "esriMPTDefaultValue",
"splitPolicy": "esriSPTDefaultValue"
}
},
{
"name": "Tag",
"type": "esriFieldTypeString",
"alias": "Tag",
"domain": null,
"length": 100
},
{
"name": "GroupName",
"type": "esriFieldTypeString",
"alias": "GroupName",
"domain": null,
"length": 100
},
{
"name": "ProductName",
"type": "esriFieldTypeString",
"alias": "ProductName",
"domain": null,
"length": 100
},
{
"name": "CenterX",
"type": "esriFieldTypeDouble",
"alias": "CenterX",
"domain": null
},
{
"name": "CenterY",
"type": "esriFieldTypeDouble",
"alias": "CenterY",
"domain": null
},
{
"name": "ZOrder",
"type": "esriFieldTypeInteger",
"alias": "ZOrder",
"domain": null
},
{
"name": "Shape_Length",
"type": "esriFieldTypeDouble",
"alias": "Shape_Length",
"domain": null
},
{
"name": "Shape_Area",
"type": "esriFieldTypeDouble",
"alias": "Shape_Area",
"domain": null
},
{
"name": "Year",
"type": "esriFieldTypeSmallInteger",
"alias": "Year",
"domain": null
}
],
"capabilities": "Image,Metadata,Catalog,Download",
"defaultMosaicMethod": "Northwest",
"allowedMosaicMethods": "NorthWest,Center,LockRaster,ByAttribute,Nadir,Viewpoint,Seamline,None",
"sortField": "",
"sortValue": null,
"sortAscending": true,
"mosaicOperator": "First",
"maxDownloadSizeLimit": 2048,
"defaultCompressionQuality": 75,
"defaultResamplingMethod": "Bilinear",
"maxImageHeight": 4100,
"maxImageWidth": 15000,
"maxRecordCount": 1000,
"maxDownloadImageCount": 20,
"maxMosaicImageCount": 20,
"allowRasterFunction": true,
"rasterFunctionInfos": [
{
"name": "None",
"description": "A No-Op Function.",
"help": ""
}
],
"rasterTypeInfos": [
{
"name": "Raster Dataset",
"description": "Supports all ArcGIS Raster Datasets",
"help": ""
}
],
"mensurationCapabilities": "None",
"hasHistograms": true,
"hasColormap": false,
"hasRasterAttributeTable": false,
"minScale": 0,
"maxScale": 0,
"exportTilesAllowed": false,
"supportsStatistics": true,
"supportsAdvancedQueries": true,
"editFieldsInfo": null,
"ownershipBasedAccessControlForRasters": null,
"allowComputeTiePoints": false,
"useStandardizedQueries": true,
"advancedQueryCapabilities": {
"useStandardizedQueries": true,
"supportsStatistics": true,
"supportsOrderBy": true,
"supportsDistinct": true,
"supportsPagination": true
},
"spatialReference": {
"wkid": 2253,
"latestWkid": 2253
}
}