{
 "currentVersion": 11.2,
 "serviceDescription": "Oakland County participated in the Southeast Michigan Regional Orthoimagery project encompassing approximately 5000 square miles, which includes an additional ½ mile buffer beyond the boundary of the seven county region. This extends approximately 500 feet into Canada. The orthoimagery is true color with a base pixel resolution of 6 inches for the County-only imagery, and 2' for the region-wide imagery. Orthoimagery tiles were delivered in Tiff format with Tiff world files representing ground dimensions of 2000' x 3000'. Tile naming convention includes the county code, the third and fourth digit of the lower left X and the first three digits of the lowerY coordinate and the year flown. For example 161 2005, tile name would be 1612932405). Countywide and community mosaics are saved in the MrSID format. Community MrSID files are compressed at 20 to 1 using the 6 inch pixel imagery and countywide MrSIDs are compressed at 50 to 1 using the 2 foot pixel imagery. All control was based on the following -Michigan State Plane (South) -Horizontal datum -North American Datum (NAD 83) international feet second-order class I. -Vertical datum - North American Vertical Datum 1988 (NAVD88) international feet, third-order class I. All imagery was taken in the spring of 2005. Acquisition was attempted when the ground was not obscured by haze, smoke, dust, clouds or cloud shadows, and snow or ice. Flights were scheduled when solar angle was at least 30 degrees or more above the horizon Orthoimagery complies with the American Society for Photogrammetry and Remote Sensing Accuracy Standards for Class 1 mapping requirements.",
 "name": "ImageServices/EnterpriseTC2005RegionalImageService",
 "description": "",
 "extent": {
  "xmin": 13176000,
  "ymin": 78000,
  "xmax": 13650000,
  "ymax": 618000,
  "spatialReference": {
   "wkid": 2253,
   "latestWkid": 2253
  }
 },
 "initialExtent": {
  "xmin": 13176000,
  "ymin": 78000,
  "xmax": 13650000,
  "ymax": 618000,
  "spatialReference": {
   "wkid": 2253,
   "latestWkid": 2253
  }
 },
 "fullExtent": {
  "xmin": 13176000,
  "ymin": 78000,
  "xmax": 13650000,
  "ymax": 618000,
  "spatialReference": {
   "wkid": 2253,
   "latestWkid": 2253
  }
 },
 "sortableFields": "MinPS,MaxPS,LowPS,HighPS,CenterX,CenterY,ZOrder,Shape_Length,Shape_Area,Year",
 "bandCount": 3,
 "pixelType": "U8",
 "minValues": [
  0,
  0,
  0
 ],
 "maxValues": [
  255,
  255,
  255
 ],
 "meanValues": [
  50.917760220171,
  58.625655254208,
  56.891728210946
 ],
 "stdvValues": [
  64.649180393957,
  66.880219920825,
  61.186386355816
 ],
 "hasMultidimensions": false,
 "pixelSizeX": 2,
 "pixelSizeY": 2,
 "meanPixelSize": 0.6096,
 "datasetFormat": "TIFF",
 "uncompressedSize": 191970000000,
 "blockWidth": 128,
 "blockHeight": 128,
 "compressionType": "LZW",
 "bandNames": [
  "Band_1",
  "Band_2",
  "Band_3"
 ],
 "allowCopy": true,
 "allowAnalysis": true,
 "itemAccess": false,
 "inspectionCapabilities": "",
 "noDataValue": 256,
 "noDataValues": [
  256,
  256,
  256
 ],
 "minPixelSize": 0,
 "maxPixelSize": 0,
 "copyrightText": "",
 "serviceDataType": "esriImageServiceDataTypeRGB",
 "serviceSourceType": "esriImageServiceSourceTypeDataset",
 "objectIdField": "",
 "fields": [],
 "capabilities": "Image,Metadata,Mensuration",
 "defaultMosaicMethod": "Center",
 "allowedMosaicMethods": "",
 "sortField": "",
 "sortValue": null,
 "sortAscending": true,
 "mosaicOperator": "First",
 "defaultCompressionQuality": 75,
 "defaultResamplingMethod": "Bilinear",
 "maxImageHeight": 4100,
 "maxImageWidth": 15000,
 "allowRasterFunction": true,
 "rasterFunctionInfos": [
  {
   "name": "None",
   "description": "",
   "help": ""
  }
 ],
 "rasterTypeInfos": [
  {
   "name": "Raster Dataset",
   "description": "Supports all ArcGIS Raster Datasets",
   "help": ""
  }
 ],
 "mensurationCapabilities": "Basic",
 "hasHistograms": true,
 "hasColormap": false,
 "hasRasterAttributeTable": false,
 "minScale": 0,
 "maxScale": 0,
 "exportTilesAllowed": false,
 "supportsStatistics": false,
 "supportsAdvancedQueries": false,
 "editFieldsInfo": null,
 "ownershipBasedAccessControlForRasters": null,
 "allowComputeTiePoints": false,
 "useStandardizedQueries": true,
 "advancedQueryCapabilities": {
  "useStandardizedQueries": true,
  "supportsStatistics": false,
  "supportsOrderBy": false,
  "supportsDistinct": false,
  "supportsPagination": false
 },
 "spatialReference": {
  "wkid": 2253,
  "latestWkid": 2253
 }
}
