{
 "currentVersion": 11.2,
 "serviceDescription": " This 1-meter resolution raster dataset was created and adapted by Sanborn. It provides a five-class enhanced land cover level I classification of the Rouge River watershed area within Oakland County, Michigan conducted by Accuracy Assessment for Alliance of Rouge Communities (ARC) on May 4, 2010. The data was initially delivered by Sanborn in Erdas Imagine (.IMG) raster format on a per community basis; however each individual community raster was loaded individually to create this comprehensive mosaic. No changes to attribution, projection or cell values occurred during this process. Actual collection of the field data occurred in the spring of 2008 by the United States Geological Survey (USGS).<\/SPAN><\/P><\/DIV><\/DIV><\/DIV>",
 "name": "ImageServices/RougeRiverWatershedLandCVR2008ImageService",
 "description": "",
 "extent": {
  "xmin": 1.3333884617928E7,
  "ymin": 326160.62542031176,
  "xmax": 1.34684709629443E7,
  "ymax": 444644.6404199475,
  "spatialReference": {
   "wkid": 2253,
   "latestWkid": 2253
  }
 },
 "initialExtent": {
  "xmin": 1.3333884617928E7,
  "ymin": 326160.62542031176,
  "xmax": 1.34684709629443E7,
  "ymax": 444644.6404199475,
  "spatialReference": {
   "wkid": 2253,
   "latestWkid": 2253
  }
 },
 "fullExtent": {
  "xmin": 1.3333884617928E7,
  "ymin": 326160.62542031176,
  "xmax": 1.34684709629443E7,
  "ymax": 444644.6404199475,
  "spatialReference": {
   "wkid": 2253,
   "latestWkid": 2253
  }
 },
 "sortableFields": "MinPS,MaxPS,LowPS,HighPS,CenterX,CenterY,ZOrder,Shape_Length,Shape_Area",
 "bandCount": 3,
 "pixelType": "U8",
 "minValues": [],
 "maxValues": [],
 "meanValues": [],
 "stdvValues": [],
 "hasMultidimensions": false,
 "pixelSizeX": 3.2808333337306976,
 "pixelSizeY": 3.280833333323247,
 "meanPixelSize": 0.9999980000590213,
 "datasetFormat": "TIFF",
 "uncompressedSize": 4444405524,
 "blockWidth": 128,
 "blockHeight": 128,
 "compressionType": "LZW",
 "bandNames": [
  "Band_1"
 ],
 "allowCopy": true,
 "allowAnalysis": true,
 "itemAccess": false,
 "inspectionCapabilities": "",
 "noDataValue": 256,
 "noDataValues": [
  256,
  256,
  256
 ],
 "minPixelSize": 0,
 "maxPixelSize": 0,
 "copyrightText": "",
 "serviceDataType": "esriImageServiceDataTypeRGB",
 "serviceSourceType": "esriImageServiceSourceTypeDataset",
 "objectIdField": "",
 "fields": [],
 "capabilities": "Image,Metadata,Mensuration",
 "defaultMosaicMethod": "Center",
 "allowedMosaicMethods": "",
 "sortField": "",
 "sortValue": null,
 "sortAscending": true,
 "mosaicOperator": "First",
 "defaultCompressionQuality": 75,
 "defaultResamplingMethod": "Bilinear",
 "maxImageHeight": 4100,
 "maxImageWidth": 15000,
 "allowRasterFunction": true,
 "rasterFunctionInfos": [
  {
   "name": "None",
   "description": "",
   "help": ""
  }
 ],
 "rasterTypeInfos": [
  {
   "name": "Raster Dataset",
   "description": "Supports all ArcGIS Raster Datasets",
   "help": ""
  }
 ],
 "mensurationCapabilities": "Basic",
 "hasHistograms": false,
 "hasColormap": false,
 "hasRasterAttributeTable": false,
 "minScale": 0,
 "maxScale": 0,
 "exportTilesAllowed": false,
 "supportsStatistics": false,
 "supportsAdvancedQueries": false,
 "editFieldsInfo": null,
 "ownershipBasedAccessControlForRasters": null,
 "allowComputeTiePoints": false,
 "useStandardizedQueries": true,
 "advancedQueryCapabilities": {
  "useStandardizedQueries": true,
  "supportsStatistics": false,
  "supportsOrderBy": false,
  "supportsDistinct": false,
  "supportsPagination": false
 },
 "spatialReference": {
  "wkid": 2253,
  "latestWkid": 2253
 }
}
