<?xml version="1.0" encoding="UTF-8" standalone="no"?>
<metadata xml:lang="en">
<Esri>
<CreaDate>20210408</CreaDate>
<CreaTime>07595800</CreaTime>
<ArcGISFormat>1.0</ArcGISFormat>
<ArcGISstyle>FGDC CSDGM Metadata</ArcGISstyle>
<SyncOnce>FALSE</SyncOnce>
<DataProperties>
<itemProps>
<itemName Sync="TRUE">TreeCanopy2010.tif</itemName>
<nativeExtBox>
<westBL Sync="TRUE">13304893.861130</westBL>
<eastBL Sync="TRUE">13469697.010737</eastBL>
<southBL Sync="TRUE">340130.174962</southBL>
<northBL Sync="TRUE">508604.584410</northBL>
<exTypeCode Sync="TRUE">1</exTypeCode>
</nativeExtBox>
<itemLocation>
<linkage Sync="TRUE">file://\\gisfs1q\Orthos\MiscImages\TreeCanopy2010.tif</linkage>
<protocol Sync="TRUE">Local Area Network</protocol>
</itemLocation>
<imsContentType Sync="TRUE">002</imsContentType>
</itemProps>
<coordRef>
<type Sync="TRUE">Projected</type>
<geogcsn Sync="TRUE">GCS_North_American_1983</geogcsn>
<projcsn Sync="TRUE">NAD_1983_StatePlane_Michigan_South_FIPS_2113_Feet_Intl</projcsn>
<peXml Sync="TRUE">&lt;ProjectedCoordinateSystem xsi:type='typens:ProjectedCoordinateSystem' xmlns:xsi='http://www.w3.org/2001/XMLSchema-instance' xmlns:xs='http://www.w3.org/2001/XMLSchema' xmlns:typens='http://www.esri.com/schemas/ArcGIS/10.7'&gt;&lt;WKT&gt;PROJCS[&amp;quot;NAD_1983_StatePlane_Michigan_South_FIPS_2113_Feet_Intl&amp;quot;,GEOGCS[&amp;quot;GCS_North_American_1983&amp;quot;,DATUM[&amp;quot;D_North_American_1983&amp;quot;,SPHEROID[&amp;quot;GRS_1980&amp;quot;,6378137.0,298.257222101]],PRIMEM[&amp;quot;Greenwich&amp;quot;,0.0],UNIT[&amp;quot;Degree&amp;quot;,0.0174532925199433]],PROJECTION[&amp;quot;Lambert_Conformal_Conic&amp;quot;],PARAMETER[&amp;quot;False_Easting&amp;quot;,13123359.58005249],PARAMETER[&amp;quot;False_Northing&amp;quot;,0.0],PARAMETER[&amp;quot;Central_Meridian&amp;quot;,-84.36666666666666],PARAMETER[&amp;quot;Standard_Parallel_1&amp;quot;,42.1],PARAMETER[&amp;quot;Standard_Parallel_2&amp;quot;,43.66666666666666],PARAMETER[&amp;quot;Latitude_Of_Origin&amp;quot;,41.5],UNIT[&amp;quot;Foot&amp;quot;,0.3048],AUTHORITY[&amp;quot;EPSG&amp;quot;,2253]]&lt;/WKT&gt;&lt;XOrigin&gt;-107138600&lt;/XOrigin&gt;&lt;YOrigin&gt;-97193800&lt;/YOrigin&gt;&lt;XYScale&gt;37448250.484633707&lt;/XYScale&gt;&lt;ZOrigin&gt;-100000&lt;/ZOrigin&gt;&lt;ZScale&gt;10000&lt;/ZScale&gt;&lt;MOrigin&gt;-100000&lt;/MOrigin&gt;&lt;MScale&gt;10000&lt;/MScale&gt;&lt;XYTolerance&gt;0.0032808398950131233&lt;/XYTolerance&gt;&lt;ZTolerance&gt;0.001&lt;/ZTolerance&gt;&lt;MTolerance&gt;0.001&lt;/MTolerance&gt;&lt;HighPrecision&gt;true&lt;/HighPrecision&gt;&lt;WKID&gt;2253&lt;/WKID&gt;&lt;LatestWKID&gt;2253&lt;/LatestWKID&gt;&lt;/ProjectedCoordinateSystem&gt;</peXml>
<csUnits Sync="TRUE">Linear Unit: Foot (0.304800)</csUnits>
</coordRef>
<lineage>
<Process Date="20121211" Time="081033" ToolSource="C:\Program Files\ArcGIS\Desktop10.0\ArcToolbox\Toolboxes\Data Management Tools.tbx\ProjectRaster">ProjectRaster F:\Oakland\treecanopy\oak_canopy D:\$Data\Temp\BuildingOutline.gdb\OakTreeCanopy PROJCS['NAD_1983_StatePlane_Michigan_South_FIPS_2113_Feet_Intl',GEOGCS['GCS_North_American_1983',DATUM['D_North_American_1983',SPHEROID['GRS_1980',6378137.0,298.257222101]],PRIMEM['Greenwich',0.0],UNIT['Degree',0.0174532925199433]],PROJECTION['Lambert_Conformal_Conic'],PARAMETER['False_Easting',13123359.58005249],PARAMETER['False_Northing',0.0],PARAMETER['Central_Meridian',-84.36666666666666],PARAMETER['Standard_Parallel_1',42.1],PARAMETER['Standard_Parallel_2',43.66666666666666],PARAMETER['Latitude_Of_Origin',41.5],UNIT['Foot',0.3048]] NEAREST 3.28083989501311 NAD_1983_To_HARN_Michigan # PROJCS['NAD_1983_HARN_StatePlane_Michigan_South_FIPS_2113_Feet_Intl',GEOGCS['GCS_North_American_1983_HARN',DATUM['D_North_American_1983_HARN',SPHEROID['GRS_1980',6378137.0,298.257222101]],PRIMEM['Greenwich',0.0],UNIT['Degree',0.0174532925199433]],PROJECTION['Lambert_Conformal_Conic'],PARAMETER['False_Easting',13123359.58005249],PARAMETER['False_Northing',0.0],PARAMETER['Central_Meridian',-84.36666666666666],PARAMETER['Standard_Parallel_1',42.1],PARAMETER['Standard_Parallel_2',43.66666666666666],PARAMETER['Latitude_Of_Origin',41.5],UNIT['Foot',0.3048]]</Process>
<Process Date="20130108" Time="155307" ToolSource="C:\Program Files\ArcGIS\Desktop10.0\ArcToolbox\Toolboxes\Data Management Tools.tbx\CopyRaster">CopyRaster "Y:\LandData\Projects\2012 SEMCOG Regional Land Cover\2012 Building Footprints\SEMCOGFinalDataReprojected.gdb\TreeCanopyRaster" "Database Connections\OC@5132 gisras1 Stage qagisdb01.sde\gisras1.OC.TreeCanopy2010" # # # NONE NONE #</Process>
<Process Date="20130110" Time="160027" ToolSource="C:\Program Files\ArcGIS\Desktop10.0\ArcToolbox\Toolboxes\Data Management Tools.tbx\CopyRaster">CopyRaster "Database Connections\OC@5132 gisras1 Stage qagisdb01.sde\GISRAS1.OC.TREECANOPY2010" "Database Connections\OC@5161 gisRAS1 Qagisdb01.sde\gisras1.OC.TreeCanopy2010" # # # NONE NONE #</Process>
<Process Date="20130110" Time="162240" ToolSource="C:\Program Files\ArcGIS\Desktop10.0\ArcToolbox\Toolboxes\Data Management Tools.tbx\ChangePrivileges">ChangePrivileges d:/DBConnections/QAGISStaging_gisras1_owner.sde\gisras1.OC.TreeCanopy2010 gisras1_county_rl GRANT AS_IS</Process>
<Process Date="20130110" Time="162240" ToolSource="C:\Program Files\ArcGIS\Desktop10.0\ArcToolbox\Toolboxes\Data Management Tools.tbx\ChangePrivileges">ChangePrivileges d:/DBConnections/QAGISStaging_gisras1_owner.sde\gisras1.OC.TreeCanopy2010 gisras1_cvt_rl GRANT AS_IS</Process>
<Process Date="20130110" Time="162241" ToolSource="C:\Program Files\ArcGIS\Desktop10.0\ArcToolbox\Toolboxes\Data Management Tools.tbx\ChangePrivileges">ChangePrivileges d:/DBConnections/QAGISStaging_gisras1_owner.sde\gisras1.OC.TreeCanopy2010 gisras1_owner_rl GRANT GRANT</Process>
<Process Date="20130110" Time="162242" ToolSource="C:\Program Files\ArcGIS\Desktop10.0\ArcToolbox\Toolboxes\Data Management Tools.tbx\ChangePrivileges">ChangePrivileges d:/DBConnections/QAGISStaging_gisras1_owner.sde\gisras1.OC.TreeCanopy2010 gisras1_app_rl GRANT GRANT</Process>
<Process Date="20210406" Time="101457" ToolSource="c:\program files (x86)\arcgis\desktop10.7\ArcToolbox\Toolboxes\Data Management Tools.tbx\CopyRaster">CopyRaster D:\DBConnections103\DEV_QA_DBConnections\DEVGISPublishing_gisras1_ro.sde\gisras1.OC.TreeCanopy2010 D:\TreeCanopy2010.tif # # 255 NONE NONE # NONE NONE TIFF NONE</Process>
</lineage>
<RasterProperties>
<General>
<PixelDepth Sync="TRUE">8</PixelDepth>
<HasColormap Sync="TRUE">TRUE</HasColormap>
<CompressionType Sync="TRUE">LZW</CompressionType>
<NumBands Sync="TRUE">1</NumBands>
<Format Sync="TRUE">TIFF</Format>
<HasPyramids Sync="TRUE">TRUE</HasPyramids>
<SourceType Sync="TRUE">discrete</SourceType>
<PixelType Sync="TRUE">unsigned integer</PixelType>
<NoDataValue Sync="TRUE">255</NoDataValue>
</General>
</RasterProperties>
<copyHistory>
<copy date="20210408" dest="\\gisfs1q\Orthos\MiscImages\TreeCanopy2010.tif" source="D:\TreeCanopy2010.tif" time="07595800"/>
</copyHistory>
</DataProperties>
<SyncDate>20210406</SyncDate>
<SyncTime>10145700</SyncTime>
<ModDate>20210406</ModDate>
<ModTime>10145700</ModTime>
</Esri>
<mdLang>
<languageCode value="eng"/>
<countryCode Sync="TRUE" value="USA"/>
</mdLang>
<mdChar>
<CharSetCd value="004"/>
</mdChar>
<mdHrLv>
<ScopeCd value="005"/>
</mdHrLv>
<mdContact>
<rpIndName>Please see document listed in Supplemental Information section for details.</rpIndName>
<rpCntInfo>
<cntAddress addressType="both">
<delPoint>535 Griswold Street</delPoint>
</cntAddress>
</rpCntInfo>
<role>
<RoleCd value="007"/>
</role>
</mdContact>
<mdDateSt>20121031</mdDateSt>
<mdStanName>ArcGIS Metadata</mdStanName>
<mdStanVer>1.0</mdStanVer>
<distInfo>
<distributor>
<distorCont>
<rpIndName>Please see document listed in Supplemental Information section for details.</rpIndName>
<role>
<RoleCd value="005"/>
</role>
</distorCont>
<distorTran>
<onLineSrc>
<orDesc>Offline</orDesc>
</onLineSrc>
</distorTran>
</distributor>
<distFormat>
<formatName Sync="TRUE">Raster Dataset</formatName>
</distFormat>
</distInfo>
<dataIdInfo>
<idCitation>
<resTitle>TreeCanopy2010ImageService</resTitle>
<citRespParty>
<rpOrgName>Southeast Michigan Council of Governments</rpOrgName>
<role>
<RoleCd value="006"/>
</role>
</citRespParty>
<presForm>
<PresFormCd value="005"/>
</presForm>
<presForm>
<fgdcGeoform>raster digital data</fgdcGeoform>
</presForm>
</idCitation>
<idAbs>A Full-canopy, 2-class map for the 7-county SEMCOG region in southeastern Michigan was developed to support land cover and land use modeling. The classification was created to support SEMCOG's Green Infrastructure Initiative and to compliment the Green Infrastructure Level 1 land cover classification created as part of this project. National Agricultural Imagery Program (NAIP) digital aerial imagery at 1-meter resolution was classified to a 2-class classification scheme with the following classes 1. Non-canopy 2. Canopy. The imagery was classified using Classification and Regression Tree techniques (CART analysis) and raster modeling. Adjusted from the SEMCOG full canopy raster file, the data was reprojected to the Oakland County projection.</idAbs>
<idPurp>A Full-canopy, 2-class map for the 7-county SEMCOG region in southeastern Michigan was developed to support land cover and land use modeling. The classification was created to support SEMCOG's Green Infrastructure Initiative and to compliment the Green Infrastructure Level 1 land cover classification created as part of this project. National Agricultural Imagery Program (NAIP) digital aerial imagery at 1-meter resolution was classified to a 2-class classification scheme with the following classes 1. Non-canopy 2. Canopy. The imagery was classified using Classification and Regression Tree techniques (CART analysis) and raster modeling. Adjusted from the SEMCOG full canopy raster file, the data was reprojected to the Oakland County projection.</idPurp>
<idCredit>Southeast Michigan Council of Governments (SEMCOG) 2011</idCredit>
<idStatus>
<ProgCd value="001"/>
</idStatus>
<idPoC>
<rpIndName>Please see document listed in Supplemental Information section for details.</rpIndName>
<rpCntInfo>
<cntAddress addressType="both">
<delPoint>Suite 300</delPoint>
</cntAddress>
</rpCntInfo>
<role>
<RoleCd value="007"/>
</role>
</idPoC>
<resMaint>
<maintFreq>
<MaintFreqCd value="009"/>
</maintFreq>
</resMaint>
<placeKeys>
<keyword>Michigan</keyword>
<keyword>Oakland County</keyword>
<keyword>USA</keyword>
</placeKeys>
<themeKeys>
<keyword>Full Canopy</keyword>
<keyword>Tree Canopy</keyword>
<keyword>Green Infrastructure</keyword>
<keyword>Level 1</keyword>
<keyword>Landcover</keyword>
<keyword>CityGREEN</keyword>
</themeKeys>
<themeKeys>
<keyword>transportation</keyword>
<keyword>climatologyMeteorologyAtmosphere</keyword>
<keyword>environment</keyword>
<keyword>structure</keyword>
<keyword>farming</keyword>
<keyword>imageryBaseMapsEarthCover</keyword>
<thesaName>
<resTitle>ISO 19115 Topic Categories</resTitle>
</thesaName>
</themeKeys>
<searchKeys>
<keyword>transportation</keyword>
<keyword>Michigan</keyword>
<keyword>Full Canopy</keyword>
<keyword>Oakland County</keyword>
<keyword>Tree Canopy</keyword>
<keyword>climatologyMeteorologyAtmosphere</keyword>
<keyword>environment</keyword>
<keyword>structure</keyword>
<keyword>Green Infrastructure</keyword>
<keyword>Level 1</keyword>
<keyword>Landcover</keyword>
<keyword>USA</keyword>
<keyword>CityGREEN</keyword>
<keyword>farming</keyword>
<keyword>imageryBaseMapsEarthCover</keyword>
</searchKeys>
<resConst>
<LegConsts>
<othConsts>This data has enhanced access or data sharing restrictions according to the Enhanced Access Policy (http://www.oakgov.com/it/gis/documents/EnhancedAccessPolicy.pdf). Please contact the One Stop Shop at 248.858.0720 for more information.</othConsts>
</LegConsts>
</resConst>
<resConst>
<Consts>
<useLimit>This data has enhanced access or data sharing restrictions according to the Geospatial Data Access, Distribution, and Use Policy (http://www.oakgov.com/it/gis/documents/GISDataPolicies.pdf). Please contact the One Stop Shop at 248.858.0720 for more information.</useLimit>
</Consts>
</resConst>
<dataLang>
<languageCode value="eng"/>
<countryCode Sync="TRUE" value="USA"/>
</dataLang>
<tpCat>
<TopicCatCd value="018"/>
</tpCat>
<tpCat>
<TopicCatCd value="010"/>
</tpCat>
<tpCat>
<TopicCatCd value="007"/>
</tpCat>
<tpCat>
<TopicCatCd value="017"/>
</tpCat>
<tpCat>
<TopicCatCd value="001"/>
</tpCat>
<tpCat>
<TopicCatCd value="004"/>
</tpCat>
<envirDesc>Microsoft Windows XP Version 5.1 (Build 2600) Service Pack 3; ESRI ArcGIS 10.0.4.4000</envirDesc>
<dataExt>
<geoEle>
<GeoBndBox>
<westBL>-83.557492</westBL>
<eastBL>-82.868996</eastBL>
<southBL>42.026149</southBL>
<northBL>42.458209</northBL>
</GeoBndBox>
</geoEle>
</dataExt>
<suppInfo>For supplemental metadata information look on the web at: http://www.oakgov.com/it/gis/documents/metadata/SEMCOG_fullcanopy_raster.pdf.</suppInfo>
<spatRpType>
<SpatRepTypCd Sync="TRUE" value="002"/>
</spatRpType>
<dataExt>
<geoEle>
<GeoBndBox esriExtentType="search">
<exTypeCode Sync="TRUE">1</exTypeCode>
<westBL Sync="TRUE">-83.694211</westBL>
<eastBL Sync="TRUE">-83.074225</eastBL>
<northBL Sync="TRUE">42.893623</northBL>
<southBL Sync="TRUE">42.426085</southBL>
</GeoBndBox>
</geoEle>
</dataExt>
</dataIdInfo>
<mdMaint>
<maintFreq>
<MaintFreqCd value="012"/>
</maintFreq>
<maintNote>Last metadata review date: 20121031</maintNote>
</mdMaint>
<dqInfo>
<dqScope>
<scpLvl>
<ScopeCd value="005"/>
</scpLvl>
</dqScope>
<report type="DQQuanAttAcc">
<measDesc>Accuracy Assessment for Green Infrastructure Level 1 classification: Overall Map Accuracy: 97.45% Minimum Mapping Unit for Assessment: 0.025 acres User's Accuracy: Impervious Surface: 100% Open Space: 99.35% Trees: 98.51% Urban: Bare: 79.45% Water: 100% Producer's Accuracy: Impervious Surface: 93.28% Open Space: 96.84% Trees: 100% Urban: Bare: 96.67% Water: 100%</measDesc>
</report>
</dqInfo>
<spatRepInfo>
<Georect>
<numDims>2</numDims>
<axisDimension type="001">
<dimSize>47227</dimSize>
<dimResol>
<value Sync="TRUE" uom="ft">3.280840</value>
</dimResol>
</axisDimension>
<axisDimension type="002">
<dimSize>56182</dimSize>
<dimResol>
<value Sync="TRUE" uom="ft">3.280840</value>
</dimResol>
</axisDimension>
<cellGeo>
<CellGeoCd Sync="TRUE" value="002"/>
</cellGeo>
<tranParaAv Sync="TRUE">1</tranParaAv>
<chkPtAv Sync="TRUE">0</chkPtAv>
<cornerPts>
<pos Sync="TRUE">13304893.861130 340130.174962</pos>
</cornerPts>
<cornerPts>
<pos Sync="TRUE">13304893.861130 508604.584410</pos>
</cornerPts>
<cornerPts>
<pos Sync="TRUE">13469697.010737 508604.584410</pos>
</cornerPts>
<cornerPts>
<pos Sync="TRUE">13469697.010737 340130.174962</pos>
</cornerPts>
<centerPt>
<pos Sync="TRUE">13387295.435934 424367.379686</pos>
</centerPt>
<ptInPixel>
<PixOrientCd Sync="TRUE" value="001"/>
</ptInPixel>
</Georect>
</spatRepInfo>
<eainfo>
<detailed Name="TreeCanopy2010.tif.vat">
<enttyp>
<enttypl>oakland_fc_final.vat</enttypl>
<enttypt Sync="TRUE">Table</enttypt>
<enttypc Sync="TRUE">2</enttypc>
</enttyp>
<attr>
<attrlabl Sync="TRUE">OID</attrlabl>
<attalias Sync="TRUE">OID</attalias>
<attrtype Sync="TRUE">OID</attrtype>
<attwidth Sync="TRUE">4</attwidth>
<atprecis Sync="TRUE">0</atprecis>
<attscale Sync="TRUE">0</attscale>
<attrdef Sync="TRUE">Internal feature number.</attrdef>
<attrdefs Sync="TRUE">Esri</attrdefs>
<attrdomv>
<udom Sync="TRUE">Sequential unique whole numbers that are automatically generated.</udom>
</attrdomv>
</attr>
<attr>
<attrlabl>CLASSNAME</attrlabl>
<attrdef>Names of land cover classes</attrdef>
<attrdefs>SEMCOG Land Cover workplan 2011</attrdefs>
<attrdomv>
<edom>
<edomv>Background</edomv>
<edomvd>File background values</edomvd>
<edomvds>SEMCOG Land Cover workplan 2011</edomvds>
</edom>
<edom>
<edomv>Non-canopy</edomv>
<edomvd>Non-tree or shrub canopy (Impervious, grass, water, barren, etc.)</edomvd>
<edomvds>SEMCOG Land Cover workplan 2011</edomvds>
</edom>
<edom>
<edomv>Canopy</edomv>
<edomvd>Tree or shrub canopy</edomvd>
<edomvds>SEMCOG Land Cover workplan 2011</edomvds>
</edom>
</attrdomv>
<attalias Sync="TRUE">CLASSNAME</attalias>
<attrtype Sync="TRUE">String</attrtype>
<attwidth Sync="TRUE">20</attwidth>
<atprecis Sync="TRUE">0</atprecis>
<attscale Sync="TRUE">0</attscale>
</attr>
<attr>
<attrlabl>SUBTYPECD</attrlabl>
<attrdef>Land Cover Class Code</attrdef>
<attrdefs>SEMCOG Land Cover workplan 2011</attrdefs>
<attrdomv>
<edom>
<edomv>1</edomv>
<edomvd>Non-canopy</edomvd>
<edomvds>SEMCOG Land Cover Mapping Workplan 2011</edomvds>
</edom>
<edom>
<edomv>0</edomv>
<edomvd>Background</edomvd>
<edomvds>SEMCOG Land Cover Mapping Workplan 2011</edomvds>
</edom>
<edom>
<edomv>2</edomv>
<edomvd>Canopy</edomvd>
<edomvds>SEMCOG Land Cover Mapping Workplan 2011</edomvds>
</edom>
</attrdomv>
<attalias Sync="TRUE">SUBTYPECD</attalias>
<attrtype Sync="TRUE">Integer</attrtype>
<attwidth Sync="TRUE">10</attwidth>
<atprecis Sync="TRUE">10</atprecis>
<attscale Sync="TRUE">0</attscale>
</attr>
</detailed>
</eainfo>
<mdHrLvName Sync="TRUE">dataset</mdHrLvName>
<refSysInfo>
<RefSystem>
<refSysID>
<identCode Sync="TRUE" code="2253"/>
<idCodeSpace Sync="TRUE">EPSG</idCodeSpace>
<idVersion Sync="TRUE">5.3(9.0.0)</idVersion>
</refSysID>
</RefSystem>
</refSysInfo>
<spdoinfo>
<rastinfo>
<rasttype Sync="TRUE">Pixel</rasttype>
<rowcount Sync="TRUE">51351</rowcount>
<colcount Sync="TRUE">50232</colcount>
<rastxsz Sync="TRUE">3.280840</rastxsz>
<rastysz Sync="TRUE">3.280840</rastysz>
<rastbpp Sync="TRUE">8</rastbpp>
<vrtcount Sync="TRUE">1</vrtcount>
<rastorig Sync="TRUE">Upper Left</rastorig>
<rastcmap Sync="TRUE">TRUE</rastcmap>
<rastcomp Sync="TRUE">LZ77</rastcomp>
<rastband Sync="TRUE">1</rastband>
<rastdtyp Sync="TRUE">pixel codes</rastdtyp>
<rastifor Sync="TRUE">SDR</rastifor>
<rastplyr Sync="TRUE">TRUE</rastplyr>
</rastinfo>
</spdoinfo>
<spref>
<horizsys>
<planar>
<planci>
<plance Sync="TRUE">row and column</plance>
<coordrep>
<absres Sync="TRUE">3.280840</absres>
<ordres Sync="TRUE">3.280840</ordres>
</coordrep>
</planci>
</planar>
</horizsys>
</spref>
<contInfo>
<ImgDesc>
<contentTyp>
<ContentTypCd Sync="TRUE" value="002"/>
</contentTyp>
<covDim>
<Band>
<dimDescrp Sync="TRUE">Band_1</dimDescrp>
<maxVal Sync="TRUE">2.000000</maxVal>
<minVal Sync="TRUE">1.000000</minVal>
<bitsPerVal Sync="TRUE">8</bitsPerVal>
<valUnit>
<UOM type="length"/>
</valUnit>
</Band>
</covDim>
</ImgDesc>
</contInfo>
</metadata>
