{
 "currentVersion": 11.2,
 "serviceDescription": "A Full-canopy, 2-class map for the 7-county SEMCOG region in southeastern Michigan was developed to support land cover and land use modeling. The classification was created to support SEMCOG's Green Infrastructure Initiative and to compliment the Green Infrastructure Level 1 land cover classification created as part of this project. National Agricultural Imagery Program (NAIP) digital aerial imagery at 1-meter resolution was classified to a 2-class classification scheme with the following classes 1. Non-canopy 2. Canopy. The imagery was classified using Classification and Regression Tree techniques (CART analysis) and raster modeling. Adjusted from the SEMCOG full canopy raster file, the data was reprojected to the Oakland County projection.",
 "name": "ImageServices/TreeCanopy2010ImageService",
 "description": "",
 "extent": {
  "xmin": 1.3304893861130437E7,
  "ymin": 340130.1749616017,
  "xmax": 1.3469697010736736E7,
  "ymax": 508604.5844104199,
  "spatialReference": {
   "wkid": 2253,
   "latestWkid": 2253
  }
 },
 "initialExtent": {
  "xmin": 1.3304893861130437E7,
  "ymin": 340130.1749616017,
  "xmax": 1.3469697010736736E7,
  "ymax": 508604.5844104199,
  "spatialReference": {
   "wkid": 2253,
   "latestWkid": 2253
  }
 },
 "fullExtent": {
  "xmin": 1.3304893861130437E7,
  "ymin": 340130.1749616017,
  "xmax": 1.3469697010736736E7,
  "ymax": 508604.5844104199,
  "spatialReference": {
   "wkid": 2253,
   "latestWkid": 2253
  }
 },
 "sortableFields": "MinPS,MaxPS,LowPS,HighPS,CenterX,CenterY,ZOrder,Shape_Length,Shape_Area",
 "bandCount": 3,
 "pixelType": "U8",
 "minValues": [],
 "maxValues": [],
 "meanValues": [],
 "stdvValues": [],
 "hasMultidimensions": false,
 "pixelSizeX": 3.2808398950131124,
 "pixelSizeY": 3.2808398950131106,
 "meanPixelSize": 0.9999999999999964,
 "datasetFormat": "TIFF",
 "uncompressedSize": 7738390296,
 "blockWidth": 128,
 "blockHeight": 128,
 "compressionType": "LZW",
 "bandNames": [
  "Band_1"
 ],
 "allowCopy": true,
 "allowAnalysis": true,
 "itemAccess": false,
 "inspectionCapabilities": "",
 "noDataValue": 256,
 "noDataValues": [
  256,
  256,
  256
 ],
 "minPixelSize": 0,
 "maxPixelSize": 0,
 "copyrightText": "Southeast Michigan Council of Governments (SEMCOG) 2011",
 "serviceDataType": "esriImageServiceDataTypeRGB",
 "serviceSourceType": "esriImageServiceSourceTypeDataset",
 "objectIdField": "",
 "fields": [],
 "capabilities": "Image,Metadata,Mensuration",
 "defaultMosaicMethod": "Center",
 "allowedMosaicMethods": "",
 "sortField": "",
 "sortValue": null,
 "sortAscending": true,
 "mosaicOperator": "First",
 "defaultCompressionQuality": 75,
 "defaultResamplingMethod": "Bilinear",
 "maxImageHeight": 4100,
 "maxImageWidth": 15000,
 "allowRasterFunction": true,
 "rasterFunctionInfos": [
  {
   "name": "None",
   "description": "",
   "help": ""
  }
 ],
 "rasterTypeInfos": [
  {
   "name": "Raster Dataset",
   "description": "Supports all ArcGIS Raster Datasets",
   "help": ""
  }
 ],
 "mensurationCapabilities": "Basic",
 "hasHistograms": false,
 "hasColormap": false,
 "hasRasterAttributeTable": false,
 "minScale": 0,
 "maxScale": 0,
 "exportTilesAllowed": false,
 "supportsStatistics": false,
 "supportsAdvancedQueries": false,
 "editFieldsInfo": null,
 "ownershipBasedAccessControlForRasters": null,
 "allowComputeTiePoints": false,
 "useStandardizedQueries": true,
 "advancedQueryCapabilities": {
  "useStandardizedQueries": true,
  "supportsStatistics": false,
  "supportsOrderBy": false,
  "supportsDistinct": false,
  "supportsPagination": false
 },
 "spatialReference": {
  "wkid": 2253,
  "latestWkid": 2253
 }
}
