View In:
  ArcGIS JavaScript
  ArcGIS Online Map Viewer
  ArcGIS Earth
Service Description:  This dataset is a composite of the 5-class Green Infrastructure Land Cover, Building Footprints, and the 2-class Full Canopy datasets. The model to compile them accounts for features below the canopy by overlaying the GI classification with the Full Canopy. This dataset will enable the user to know where buildings, pavement, or open space exist beneath canopy. It is designed to be ingested into American Forests' CITYgreen software.A Green Infrastructure map for the 7-county SEMCOG region in southeastern Michigan was developed to support land cover and land use modeling. 4-band ADS-80 digital aerial imagery at 1-meter resolution was classified to a Green Infrastructure Level 1 classification scheme with the following classes: 1) Impervious Surface, 2) Open Space, 3) Trees, 4) Urban: Bare and 5) Water. The image was classified using Classification and Regression Tree techniques (CART analysis) and raster modeling.A standard accuracy assessment was performed on the final land cover. The overall accuracy statistic is 97.45%. Adjusted from the SEMCOG composite raster file, the data was reprojected to the Oakland County projection.
Name:  ImageServices/CompositeLandCover2010ImageService
Description:  
Single Fused Map Cache:  false
Extent: 
XMin: 1.330489386113044E7
YMin: 340130.17496159684
XMax: 1.3469697010736816E7
YMax: 508604.58441049326
Spatial Reference: 2253
 (2253)
 LatestVCSWkid(0)
Initial Extent:
XMin: 1.330489386113044E7
YMin: 340130.17496159684
XMax: 1.3469697010736816E7
YMax: 508604.58441049326
Spatial Reference: 2253
 (2253)
 LatestVCSWkid(0)
Full Extent:
XMin: 1.330489386113044E7
YMin: 340130.17496159684
XMax: 1.3469697010736816E7
YMax: 508604.58441049326
Spatial Reference: 2253
 (2253)
 LatestVCSWkid(0)
Pixel Size X: 3.2808398950146325
Pixel Size Y:  3.280839895014633
Band Count: 3
Pixel Type: U8
RasterFunction Infos:  {"rasterFunctionInfos": [{
 "name": "None",
 "description": "",
 "help": ""
}]}
Mensuration Capabilities: Basic
Inspection Capabilities: 
Has Histograms:  false
Has Colormap:  false
Has Multi Dimensions :  false
Rendering Rule: 
Min Scale:  0
Max Scale:  0
Copyright Text:  Southeast Michigan Council of Governments (SEMCOG) 2011
Service Data Type:  esriImageServiceDataTypeRGB
Min Values:  N/A
Max Values:  N/A
Mean Values:  N/A
Standard Deviation Values:  N/A
Object ID Field:  
Fields: 
None
Default Mosaic Method:  Center
Allowed Mosaic Methods:  
SortField:  
SortValue:  null
Mosaic Operator:  First
Default Compression Quality:  75
Default Resampling Method:  Bilinear
Max Record Count:  null
Max Image Height:  4100
Max Image Width:  15000
Max Download Image Count:  null
Max Mosaic Image Count:  null
Allow Raster Function:  true
Allow Copy:  true
Allow Analysis:  true
Allow Compute TiePoints:  false
Supports Statistics:  false
Supports Advanced Queries:  false
Use StandardizedQueries:  true
Raster Type Infos: 
Name: Raster Dataset
Description: Supports all ArcGIS Raster Datasets
Help: 
Has Raster Attribute Table: false
Edit Fields Info:  null
Ownership Based AccessControl For Rasters:  null
Child Resources:
  
Info
  Statistics
  Key Properties
  Legend
  Raster Function Infos
Supported Operations:
  
Export Image
  Identify
  Measure
  Compute Histograms
  Compute Statistics Histograms
  Get Samples
  Compute Class Statistics
  Query Boundary
  Compute Pixel Location
  Compute Angles
  Validate
  Project