View In:
ArcGIS JavaScript
ArcGIS Online Map Viewer
ArcGIS Earth
Service Description: Under contract with the State of Michigan, Vexcel was contracted to produce and deliver natural Color (RGB) orthophotos for numerous areas of interest in support of Michigan's Statewide Partnership Program. Areas of interest were defined by the State. All aerial imagery was acquired using ADS direct digital sensors at an altitude sufficient for the production of digital orthophotos with a 1.0-foot or .5-foot pixel resolution as requested. Following acquisition of imagery data, survey ground control coordinates were used in-conjunction with Airborne GPS and Inertial Measurement Unit (IMU) information to establish precise spatial positioning of the image data through the process of Analytical Aero-Triangulation (AT). Upon completion of AT, the imagery was rectified to the best available digital elevation model (DEM), whether from the USGS, other high quality DEM provided by the participating government in GeoTIFF or other compatible format, or new ADS stereo imagery compiled and edited surface model using Pictovera software. The resultant rectified imagery was analyzed and radiometrically adjusted to provide the state with optimal color and tonal appearance. Manually-placed seamlines were generated to mosaic imagery from adjacent flightlines. Following mosaicking and color-balancing, multiple QA/QC processes were performed to insure optimal data quality was achieved prior to tiling the data to 5,000 by 5,000 pixel extents. All ortho tiles were clipped to an AOI shapefile (buffered to 400-meters) boundaries, as supplied by the State of Michigan. Final ortho tiles were delivered in the requested projection/units and in GeoTIFF format.
Name: ImageServices/EnterpriseOrthoTC2012ImageService
Description:
Single Fused Map Cache: false
Extent:
XMin: 1.3300997866087452E7
YMin: 337700.87313150504
XMax: 1.3475997866087452E7
YMax: 512700.87313150504
Spatial Reference: 2253
(2253)
LatestVCSWkid(0)
Initial Extent:
XMin: 1.3300997866087452E7
YMin: 337700.87313150504
XMax: 1.3475997866087452E7
YMax: 512700.87313150504
Spatial Reference: 2253
(2253)
LatestVCSWkid(0)
Full Extent:
XMin: 1.3300997866087452E7
YMin: 337700.87313150504
XMax: 1.3475997866087452E7
YMax: 512700.87313150504
Spatial Reference: 2253
(2253)
LatestVCSWkid(0)
Pixel Size X: 1.0
Pixel Size Y: 1.0
Band Count: 3
Pixel Type: U8
RasterFunction Infos: {"rasterFunctionInfos": [{
"name": "None",
"description": "A No-Op Function.",
"help": ""
}]}
Mensuration Capabilities: None
Inspection Capabilities:
Has Histograms: true
Has Colormap: false
Has Multi Dimensions : false
Rendering Rule:
Min Scale: 0
Max Scale: 0
Copyright Text:
Service Data Type: esriImageServiceDataTypeRGB
Min Values: 0, 0, 0
Max Values: 255, 255, 255
Mean Values: 107.18361864416586, 107.68666410919792, 92.03675433103359
Standard Deviation Values: 46.4274098108776, 44.19144255054698, 40.42597617278627
Object ID Field: OBJECTID
Fields:
-
OBJECTID
(
type: esriFieldTypeOID, alias: OBJECTID
)
-
Shape
(
type: esriFieldTypeGeometry, alias: Shape
)
-
Name
(
type: esriFieldTypeString, alias: Name, length: 200
)
-
MinPS
(
type: esriFieldTypeDouble, alias: MinPS
)
-
MaxPS
(
type: esriFieldTypeDouble, alias: MaxPS
)
-
LowPS
(
type: esriFieldTypeDouble, alias: LowPS
)
-
HighPS
(
type: esriFieldTypeDouble, alias: HighPS
)
-
Category
(
type: esriFieldTypeInteger, alias: Category
, Coded Values:
[0: Unknown]
, [1: Primary]
, [2: Overview]
, ...6 more...
)
-
Tag
(
type: esriFieldTypeString, alias: Tag, length: 100
)
-
GroupName
(
type: esriFieldTypeString, alias: GroupName, length: 100
)
-
ProductName
(
type: esriFieldTypeString, alias: ProductName, length: 100
)
-
CenterX
(
type: esriFieldTypeDouble, alias: CenterX
)
-
CenterY
(
type: esriFieldTypeDouble, alias: CenterY
)
-
ZOrder
(
type: esriFieldTypeInteger, alias: ZOrder
)
-
Shape_Length
(
type: esriFieldTypeDouble, alias: Shape_Length
)
-
Shape_Area
(
type: esriFieldTypeDouble, alias: Shape_Area
)
-
Year
(
type: esriFieldTypeSmallInteger, alias: Year
)
Default Mosaic Method: Northwest
Allowed Mosaic Methods: NorthWest,Center,LockRaster,ByAttribute,Nadir,Viewpoint,Seamline,None
SortField:
SortValue: null
Mosaic Operator: First
Default Compression Quality: 75
Default Resampling Method: Bilinear
Max Record Count: 1000
Max Image Height: 4100
Max Image Width: 15000
Max Download Image Count: 20
Max Mosaic Image Count: 20
Allow Raster Function: true
Allow Copy: true
Allow Analysis: true
Allow Compute TiePoints: false
Supports Statistics: true
Supports Advanced Queries: true
Use StandardizedQueries: true
Raster Type Infos:
Name: Raster Dataset
Description: Supports all ArcGIS Raster Datasets
Help:
Has Raster Attribute Table: false
Edit Fields Info: null
Ownership Based AccessControl For Rasters: null
Child Resources:
Info
Histograms
Statistics
Key Properties
Legend
Raster Function Infos
Supported Operations:
Export Image
Query
Identify
Download Rasters
Get Image Url
Compute Histograms
Compute Statistics Histograms
Get Samples
Compute Class Statistics
Query GPS Info
Find Images
Image to Map
Map to Image
Measure from Image
Image to Map Multiray
Query Boundary
Compute Pixel Location
Compute Angles
Validate
Project