View In:
ArcGIS JavaScript
ArcGIS Online Map Viewer
ArcGIS Earth
Service Description: This metadata supports the intensity raster product derived from the 2008 LiDAR data set. The average intensity value (range 0-255) within each raster cell is calculated and assigned as the pixel value. The resultant rasters are 1-byte, single-band with a pixel size of 1 meter (3.28 ft). Each raster was clipped to the LiDAR production tile index with a 1-pixel over-edge. LIDAR data is remotely sensed high-resolution elevation data collected by an airborne collection platform. Using a combination of laser range finding, GPS positioning and inertial measurement technologies; LIDAR instruments are able to make highly detailed Digital Elevation Models (DEM) of the earth's terrain, man-made structures and vegetation. This data was collected at a resolution to aid in flood plain analysis and mapping.
Name: ImageServices/EnterpriseIntensity2008ImageService
Description:
Single Fused Map Cache: false
Extent:
XMin: 1.329999656E7
YMin: 334996.23999919073
XMax: 1.3475004239964219E7
YMax: 515005.9200007241
Spatial Reference: 2253
(2253)
LatestVCSWkid(0)
Initial Extent:
XMin: 1.329999656E7
YMin: 334996.23999919073
XMax: 1.3475004239964219E7
YMax: 515005.9200007241
Spatial Reference: 2253
(2253)
LatestVCSWkid(0)
Full Extent:
XMin: 1.329999656E7
YMin: 334996.23999919073
XMax: 1.3475004239964219E7
YMax: 515005.9200007241
Spatial Reference: 2253
(2253)
LatestVCSWkid(0)
Pixel Size X: 3.279999999329378
Pixel Size Y: 3.2800000000279397
Band Count: 1
Pixel Type: U8
RasterFunction Infos: {"rasterFunctionInfos": [{
"name": "None",
"description": "",
"help": ""
}]}
Mensuration Capabilities: Basic
Inspection Capabilities:
Has Histograms: true
Has Colormap: false
Has Multi Dimensions : false
Rendering Rule:
Min Scale: 0
Max Scale: 0
Copyright Text:
Service Data Type: esriImageServiceDataTypeGeneric
Min Values: 0
Max Values: 255
Mean Values: 61.88040345463
Standard Deviation Values: 63.687212090497
Object ID Field:
Fields:
None
Default Mosaic Method: Center
Allowed Mosaic Methods:
SortField:
SortValue: null
Mosaic Operator: First
Default Compression Quality: 75
Default Resampling Method: Bilinear
Max Record Count: null
Max Image Height: 4100
Max Image Width: 15000
Max Download Image Count: null
Max Mosaic Image Count: null
Allow Raster Function: true
Allow Copy: true
Allow Analysis: true
Allow Compute TiePoints: false
Supports Statistics: false
Supports Advanced Queries: false
Use StandardizedQueries: true
Raster Type Infos:
Name: Raster Dataset
Description: Supports all ArcGIS Raster Datasets
Help:
Has Raster Attribute Table: false
Edit Fields Info: null
Ownership Based AccessControl For Rasters: null
Child Resources:
Info
Histograms
Statistics
Key Properties
Legend
Raster Function Infos
Supported Operations:
Export Image
Identify
Measure
Compute Histograms
Compute Statistics Histograms
Get Samples
Compute Class Statistics
Query Boundary
Compute Pixel Location
Compute Angles
Validate
Project