View In:
ArcGIS JavaScript
ArcGIS Online Map Viewer
ArcGIS Earth
Service Description: Oakland County participated in the Southeast Michigan Regional Orthoimagery project encompassing approximately 5000 square miles, which includes an additional ½ mile buffer beyond the boundary of the seven county region. This extends approximately 500 feet into Canada. The orthoimagery is true color with a base pixel resolution of 6 inches for the County-only imagery, and 2' for the region-wide imagery. Orthoimagery tiles were delivered in Tiff format with Tiff world files representing ground dimensions of 2000' x 3000'. Tile naming convention includes the county code, the third and fourth digit of the lower left X and the first three digits of the lowerY coordinate and the year flown. For example 161 2005, tile name would be 1612932405). Countywide and community mosaics are saved in the MrSID format. Community MrSID files are compressed at 20 to 1 using the 6 inch pixel imagery and countywide MrSIDs are compressed at 50 to 1 using the 2 foot pixel imagery. All control was based on the following -Michigan State Plane (South) -Horizontal datum -North American Datum (NAD 83) international feet second-order class I. -Vertical datum - North American Vertical Datum 1988 (NAVD88) international feet, third-order class I. All imagery was taken in the spring of 2005. Acquisition was attempted when the ground was not obscured by haze, smoke, dust, clouds or cloud shadows, and snow or ice. Flights were scheduled when solar angle was at least 30 degrees or more above the horizon Orthoimagery complies with the American Society for Photogrammetry and Remote Sensing Accuracy Standards for Class 1 mapping requirements.
Name: ImageServices/EnterpriseTC2005RegionalImageService
Description:
Single Fused Map Cache: false
Extent:
XMin: 1.3176E7
YMin: 78000.0
XMax: 1.365E7
YMax: 618000.0
Spatial Reference: 2253
(2253)
LatestVCSWkid(0)
Initial Extent:
XMin: 1.3176E7
YMin: 78000.0
XMax: 1.365E7
YMax: 618000.0
Spatial Reference: 2253
(2253)
LatestVCSWkid(0)
Full Extent:
XMin: 1.3176E7
YMin: 78000.0
XMax: 1.365E7
YMax: 618000.0
Spatial Reference: 2253
(2253)
LatestVCSWkid(0)
Pixel Size X: 2.0
Pixel Size Y: 2.0
Band Count: 3
Pixel Type: U8
RasterFunction Infos: {"rasterFunctionInfos": [{
"name": "None",
"description": "",
"help": ""
}]}
Mensuration Capabilities: Basic
Inspection Capabilities:
Has Histograms: true
Has Colormap: false
Has Multi Dimensions : false
Rendering Rule:
Min Scale: 0
Max Scale: 0
Copyright Text:
Service Data Type: esriImageServiceDataTypeRGB
Min Values: 0, 0, 0
Max Values: 255, 255, 255
Mean Values: 50.917760220171, 58.625655254208, 56.891728210946
Standard Deviation Values: 64.649180393957, 66.880219920825, 61.186386355816
Object ID Field:
Fields:
None
Default Mosaic Method: Center
Allowed Mosaic Methods:
SortField:
SortValue: null
Mosaic Operator: First
Default Compression Quality: 75
Default Resampling Method: Bilinear
Max Record Count: null
Max Image Height: 4100
Max Image Width: 15000
Max Download Image Count: null
Max Mosaic Image Count: null
Allow Raster Function: true
Allow Copy: true
Allow Analysis: true
Allow Compute TiePoints: false
Supports Statistics: false
Supports Advanced Queries: false
Use StandardizedQueries: true
Raster Type Infos:
Name: Raster Dataset
Description: Supports all ArcGIS Raster Datasets
Help:
Has Raster Attribute Table: false
Edit Fields Info: null
Ownership Based AccessControl For Rasters: null
Child Resources:
Info
Histograms
Statistics
Key Properties
Legend
Raster Function Infos
Supported Operations:
Export Image
Identify
Measure
Compute Histograms
Compute Statistics Histograms
Get Samples
Compute Class Statistics
Query Boundary
Compute Pixel Location
Compute Angles
Validate
Project