View In:
ArcGIS JavaScript
ArcGIS Online Map Viewer
ArcGIS Earth
Service Description: This 1-meter resolution raster dataset was created and adapted by Sanborn. It provides a five-class enhanced land cover level I classification of the Rouge River watershed area within Oakland County, Michigan conducted by Accuracy Assessment for Alliance of Rouge Communities (ARC) on May 4, 2010. The data was initially delivered by Sanborn in Erdas Imagine (.IMG) raster format on a per community basis; however each individual community raster was loaded individually to create this comprehensive mosaic. No changes to attribution, projection or cell values occurred during this process. Actual collection of the field data occurred in the spring of 2008 by the United States Geological Survey (USGS).
Name: ImageServices/RougeRiverWatershedLandCVR2008ImageService
Description:
Single Fused Map Cache: false
Extent:
XMin: 1.3333884617928E7
YMin: 326160.62542031176
XMax: 1.34684709629443E7
YMax: 444644.6404199475
Spatial Reference: 2253
(2253)
LatestVCSWkid(0)
Initial Extent:
XMin: 1.3333884617928E7
YMin: 326160.62542031176
XMax: 1.34684709629443E7
YMax: 444644.6404199475
Spatial Reference: 2253
(2253)
LatestVCSWkid(0)
Full Extent:
XMin: 1.3333884617928E7
YMin: 326160.62542031176
XMax: 1.34684709629443E7
YMax: 444644.6404199475
Spatial Reference: 2253
(2253)
LatestVCSWkid(0)
Pixel Size X: 3.2808333337306976
Pixel Size Y: 3.280833333323247
Band Count: 3
Pixel Type: U8
RasterFunction Infos: {"rasterFunctionInfos": [{
"name": "None",
"description": "",
"help": ""
}]}
Mensuration Capabilities: Basic
Inspection Capabilities:
Has Histograms: false
Has Colormap: false
Has Multi Dimensions : false
Rendering Rule:
Min Scale: 0
Max Scale: 0
Copyright Text:
Service Data Type: esriImageServiceDataTypeRGB
Min Values: N/A
Max Values: N/A
Mean Values: N/A
Standard Deviation Values: N/A
Object ID Field:
Fields:
None
Default Mosaic Method: Center
Allowed Mosaic Methods:
SortField:
SortValue: null
Mosaic Operator: First
Default Compression Quality: 75
Default Resampling Method: Bilinear
Max Record Count: null
Max Image Height: 4100
Max Image Width: 15000
Max Download Image Count: null
Max Mosaic Image Count: null
Allow Raster Function: true
Allow Copy: true
Allow Analysis: true
Allow Compute TiePoints: false
Supports Statistics: false
Supports Advanced Queries: false
Use StandardizedQueries: true
Raster Type Infos:
Name: Raster Dataset
Description: Supports all ArcGIS Raster Datasets
Help:
Has Raster Attribute Table: false
Edit Fields Info: null
Ownership Based AccessControl For Rasters: null
Child Resources:
Info
Statistics
Key Properties
Legend
Raster Function Infos
Supported Operations:
Export Image
Identify
Measure
Compute Histograms
Compute Statistics Histograms
Get Samples
Compute Class Statistics
Query Boundary
Compute Pixel Location
Compute Angles
Validate
Project