View In:
ArcGIS JavaScript
ArcGIS Online Map Viewer
ArcGIS Earth
Service Description: A Full-canopy, 2-class map for the 7-county SEMCOG region in southeastern Michigan was developed to support land cover and land use modeling. The classification was created to support SEMCOG's Green Infrastructure Initiative and to compliment the Green Infrastructure Level 1 land cover classification created as part of this project. National Agricultural Imagery Program (NAIP) digital aerial imagery at 1-meter resolution was classified to a 2-class classification scheme with the following classes 1. Non-canopy 2. Canopy. The imagery was classified using Classification and Regression Tree techniques (CART analysis) and raster modeling. Adjusted from the SEMCOG full canopy raster file, the data was reprojected to the Oakland County projection.
Name: ImageServices/TreeCanopy2010ImageService
Description:
Single Fused Map Cache: false
Extent:
XMin: 1.3304893861130437E7
YMin: 340130.1749616017
XMax: 1.3469697010736736E7
YMax: 508604.5844104199
Spatial Reference: 2253
(2253)
LatestVCSWkid(0)
Initial Extent:
XMin: 1.3304893861130437E7
YMin: 340130.1749616017
XMax: 1.3469697010736736E7
YMax: 508604.5844104199
Spatial Reference: 2253
(2253)
LatestVCSWkid(0)
Full Extent:
XMin: 1.3304893861130437E7
YMin: 340130.1749616017
XMax: 1.3469697010736736E7
YMax: 508604.5844104199
Spatial Reference: 2253
(2253)
LatestVCSWkid(0)
Pixel Size X: 3.2808398950131124
Pixel Size Y: 3.2808398950131106
Band Count: 3
Pixel Type: U8
RasterFunction Infos: {"rasterFunctionInfos": [{
"name": "None",
"description": "",
"help": ""
}]}
Mensuration Capabilities: Basic
Inspection Capabilities:
Has Histograms: false
Has Colormap: false
Has Multi Dimensions : false
Rendering Rule:
Min Scale: 0
Max Scale: 0
Copyright Text: Southeast Michigan Council of Governments (SEMCOG) 2011
Service Data Type: esriImageServiceDataTypeRGB
Min Values: N/A
Max Values: N/A
Mean Values: N/A
Standard Deviation Values: N/A
Object ID Field:
Fields:
None
Default Mosaic Method: Center
Allowed Mosaic Methods:
SortField:
SortValue: null
Mosaic Operator: First
Default Compression Quality: 75
Default Resampling Method: Bilinear
Max Record Count: null
Max Image Height: 4100
Max Image Width: 15000
Max Download Image Count: null
Max Mosaic Image Count: null
Allow Raster Function: true
Allow Copy: true
Allow Analysis: true
Allow Compute TiePoints: false
Supports Statistics: false
Supports Advanced Queries: false
Use StandardizedQueries: true
Raster Type Infos:
Name: Raster Dataset
Description: Supports all ArcGIS Raster Datasets
Help:
Has Raster Attribute Table: false
Edit Fields Info: null
Ownership Based AccessControl For Rasters: null
Child Resources:
Info
Statistics
Key Properties
Legend
Raster Function Infos
Supported Operations:
Export Image
Identify
Measure
Compute Histograms
Compute Statistics Histograms
Get Samples
Compute Class Statistics
Query Boundary
Compute Pixel Location
Compute Angles
Validate
Project